BEGIN:VCALENDAR
VERSION:2.0
PRODID:-//events.la.psu.edu//EN
CALSCALE:GREGORIAN
BEGIN:VTIMEZONE
TZID:America/New_York
BEGIN:STANDARD
DTSTART:20201101T020000
TZOFFSETFROM:-0400
TZOFFSETTO:-0500
RRULE:FREQ=YEARLY;BYMONTH=11;BYDAY=1SU
END:STANDARD
BEGIN:DAYLIGHT
DTSTART:20200308T020000
TZOFFSETFROM:-0500
TZOFFSETTO:-0400
RRULE:FREQ=YEARLY;BYMONTH=3;BYDAY=2SU
END:DAYLIGHT
END:VTIMEZONE
BEGIN:VEVENT
UID:5343-9810f67975b06387bfff03affe6d9505@events.la.psu.edu
DTSTAMP:20260421T213805Z
DTSTART;TZID=America/New_York:20201210T153000
DTEND;TZID=America/New_York:20201210T153000
SUMMARY:Reflections on Democracy in America: The View from the Humanities—A Conv
	ersation with Cynthia Young
DESCRIPTION:\nThe history of struggles for representation and recognitio
	n in America is the subject of the latest HumIn Focus episode:&nbsp\;Who
	 Counts: The Complexities of Democracy in America.&nbsp\;Given this hist
	ory\, coupled with the dramatic presidential election we just witnessed\
	, the&nbsp\;Humanities&nbsp\;Institute invites&nbsp\;you to join us as D
	irector John Christman talks with&nbsp\;Dr. Cynthia Young\, head of the 
	Department of African American Studies at Penn State\, about&nbsp\;the m
	eaning of democracy today.&nbsp\;\n\nWe encourage you to watch&nbsp\;Epi
	sode 4 of&nbsp\;HumIn Focus&nbsp\;beforehand\, as a backdrop to the conv
	ersation. Dr.&nbsp\;Christman and Dr. Young will discuss the themes of t
	he documentary\, as well as some that were left out.\n\nModerated by Zin
	hle ka&#39\;Nobuhlaluse\, Doctoral&nbsp\;Candidate in Philosophy and Wom
	en&#39\;s\, Gender\, and Sexuality Studies&nbsp\;and Digital Content/Soc
	ial Media Manager for the Humanities Institute\n\nQuestions will be take
	n from the audience during the webinar. Register in advance&nbsp\;here.\
	n\nFor more details: https://events.la.psu.edu/event/humin_focus_cynthia
	_young/
X-ALT-DESC;FMTTYPE=text/html:<html><head></head><body><p>The history of 
	struggles for representation and recognition in America is the subject o
	f the latest<i> HumIn Focus</i> episode:&nbsp;<i>Who Counts: The Complex
	ities of Democracy in America.&nbsp;</i>Given this history, coupled with
	 the dramatic presidential election we just witnessed, the&nbsp;<a href=
	"https://hi.psu.edu/who-we-are">Humanities&nbsp;Institute</a> invites&nb
	sp;you to join us as Director John Christman talks with&nbsp;<a href="ht
	tps://afam.la.psu.edu/people/cay9" target="_blank">Dr. Cynthia Young</a>
	, head of the Department of African American Studies at Penn State, abou
	t&nbsp;the meaning of democracy today.&nbsp;<br /><br />We encourage you
	 to watch&nbsp;<a href="https://wpsu.psu.edu/tv/programs/humin-focus/who
	-counts-the-complexities-of-democracy-in-america/" target="_blank">Episo
	de 4 of&nbsp;<i>HumIn Focus</i></a>&nbsp;beforehand, as a backdrop to th
	e conversation. Dr.&nbsp;Christman and Dr. Young will discuss the themes
	 of the documentary, as well as some that were left out.</p><p><b>Modera
	ted by Zinhle ka&#39;Nobuhlaluse, Doctoral&nbsp;Candidate in Philosophy 
	and Women&#39;s, Gender, and Sexuality Studies&nbsp;and Digital Content/
	Social Media Manager for the Humanities Institute</b></p><p>Questions wi
	ll be taken from the audience during the webinar. Register in advance<a 
	href="https://psu.zoom.us/webinar/register/WN_y6PXbJeZQsmw-sAH4mGrUg" ta
	rget="_blank">&nbsp;</a><a href="https://psu.zoom.us/webinar/register/WN
	_y6PXbJeZQsmw-sAH4mGrUg" target="_blank">here.</a></p><p>For more detail
	s: <a href='https://events.la.psu.edu/event/humin_focus_cynthia_young/'>
	https://events.la.psu.edu/event/humin_focus_cynthia_young/</a></p></body
	></html>
END:VEVENT
END:VCALENDAR