BEGIN:VCALENDAR
VERSION:2.0
PRODID:-//events.la.psu.edu//EN
CALSCALE:GREGORIAN
BEGIN:VTIMEZONE
TZID:America/New_York
BEGIN:STANDARD
DTSTART:20201101T020000
TZOFFSETFROM:-0400
TZOFFSETTO:-0500
RRULE:FREQ=YEARLY;BYMONTH=11;BYDAY=1SU
END:STANDARD
BEGIN:DAYLIGHT
DTSTART:20200308T020000
TZOFFSETFROM:-0500
TZOFFSETTO:-0400
RRULE:FREQ=YEARLY;BYMONTH=3;BYDAY=2SU
END:DAYLIGHT
END:VTIMEZONE
BEGIN:VEVENT
UID:3162-a82243013daf6ac2e404a2cf4acfc229@events.la.psu.edu
DTSTAMP:20260421T062018Z
DTSTART;TZID=America/New_York:20230914T160000
DTEND;TZID=America/New_York:20230914T160000
SUMMARY:“Unthinkable History: The American Settler State and the Political Econo
	my of Plunder,” Michael Witgen
DESCRIPTION:\n&ldquo\;Unthinkable History: The American Settler State an
	d the Political Economy of Plunder&rdquo\;\n\nMichael Witgen\, professor
	 in the Department of History and the Center for the Study of Ethnicity 
	and Race at Columbia University\n\nThe American Republic was founded as 
	a nation of settlers struggling to colonize Native North America. This p
	roject began as an extension of the original European colonial project i
	n the western hemisphere\, imagined as the discovery of a New World. Bot
	h the original colonial scheme\, and the one undertaken by the United St
	ates\, imagined North America as unsettled wilderness\, and imagined col
	onization as a civilizing mission. Framed in this way\, the expansion of
	 the republic beyond the original thirteen states into the western inter
	ior could be imagined as a benign conquest of nature\, when in fact it w
	as an audacious colonial project&mdash\;a grandiose scheme to steal a co
	ntinent. However\, a theft this bold would require more than merely a pl
	an for colonial subjugation. It would require a colonial power willing t
	o organize itself around a political economy of plunder. It would requir
	e a totalizing colonial project that would make an Indigenous history of
	 North America unthinkable.\n\nFor more details: https://events.la.psu.e
	du/event/hist-michael-witgen_091423/
X-ALT-DESC;FMTTYPE=text/html:<html><head></head><body><p><b>&ldquo;Unthi
	nkable History: The American Settler State and the Political Economy of 
	Plunder&rdquo;</b></p><p><b>Michael Witgen</b>, professor in the Departm
	ent of History and the Center for the Study of Ethnicity and Race at Col
	umbia University</p><p>The American Republic was founded as a nation of 
	settlers struggling to colonize Native North America. This project began
	 as an extension of the original European colonial project in the wester
	n hemisphere, imagined as the discovery of a New World. Both the origina
	l colonial scheme, and the one undertaken by the United States, imagined
	 North America as unsettled wilderness, and imagined colonization as a c
	ivilizing mission. Framed in this way, the expansion of the republic bey
	ond the original thirteen states into the western interior could be imag
	ined as a benign conquest of nature, when in fact it was an audacious co
	lonial project&mdash;a grandiose scheme to steal a continent. However, a
	 theft this bold would require more than merely a plan for colonial subj
	ugation. It would require a colonial power willing to organize itself ar
	ound a political economy of plunder. It would require a totalizing colon
	ial project that would make an Indigenous history of North America unthi
	nkable.</p><p>For more details: <a href='https://events.la.psu.edu/event
	/hist-michael-witgen_091423/'>https://events.la.psu.edu/event/hist-micha
	el-witgen_091423/</a></p></body></html>
LOCATION:Foster Auditorium, 102 Paterno Library
END:VEVENT
END:VCALENDAR