BEGIN:VCALENDAR
VERSION:2.0
PRODID:-//events.la.psu.edu//EN
CALSCALE:GREGORIAN
BEGIN:VTIMEZONE
TZID:America/New_York
BEGIN:STANDARD
DTSTART:20201101T020000
TZOFFSETFROM:-0400
TZOFFSETTO:-0500
RRULE:FREQ=YEARLY;BYMONTH=11;BYDAY=1SU
END:STANDARD
BEGIN:DAYLIGHT
DTSTART:20200308T020000
TZOFFSETFROM:-0500
TZOFFSETTO:-0400
RRULE:FREQ=YEARLY;BYMONTH=3;BYDAY=2SU
END:DAYLIGHT
END:VTIMEZONE
BEGIN:VEVENT
UID:3831-3884297f56c98efd1ce1cc47ee60d3e4@events.la.psu.edu
DTSTAMP:20260419T220159Z
DTSTART;TZID=America/New_York:20221108T110000
DTEND;TZID=America/New_York:20221108T110000
SUMMARY:HI Fall Graduate Scholars in Residence Talks
DESCRIPTION:\nFall Graduate Scholars in Residence Talk:\n\nWayne Wapeemu
	kwa: &ldquo\;Partisans of the Soil: Racial Capitalism and M&eacute\;tis 
	Dispossession&rdquo\;\n\n	Until very recently\, almost all literature ab
	out M&eacute\;tis was written by outsiders who centered racial whiteness
	 and presumed the rise of the Canadian state\, church\, and industry as 
	inevitable. Against that tendency\, I dually wield M&eacute\;tis philoso
	phy\, and a fresh interpretation of Marxism\, to show how these missed o
	pportunities narrowly reduce intersectional M&eacute\;tis identity durin
	g the &quot\;Scrip-Era&quot\; of settler-M&eacute\;tis relations (1870&n
	dash\;1920). My study sits at a convergence of M&eacute\;tis ethnohistor
	y\, political philosophy\, and Critical Race Theory\, with an eye to how
	 &quot\;half-breed scrip&quot\; mobilized colonially-modern discourses l
	ike scientific racism\, Victorian patriarchy\, and British civility in o
	rder to dispossess M&eacute\;tis and turn the plains into private proper
	ty.\n\nLaurie Dubois: &ldquo\;Powers of Fiction: Scholastic Novels and F
	orgotten Women in Third Republic France (1870&ndash\;1914)&rdquo\;\n\n	T
	his project explores a large corpus of about twenty French scholastic no
	vels never before studied from a literary perspective. The Scholastic no
	vel is a primarily woman-led literary genre that appeared in the second 
	half of the nineteenth century that has now fallen into disuse. These pu
	blications were innovative hybrid texts that combined recreational appea
	l and pedagogical function\, weaving together narrative and didactic occ
	urrences. This genre reached peak popularity during Third Republic and&n
	bsp\;&nbsp\;focused on both transmitting knowledge and instilling values
	\, aligned with the new national curriculum. Grounded in feminist theori
	es\, narratology\, literary analysis\, Laurie argues that the lessons di
	sseminated by each book were in fact not all &ldquo\;aligned&rdquo\; and
	 vary greatly depending on the author as they used fiction as a vehicle 
	for political and ideological explorations.\n\nIsmael Qui&ntilde\;ones: 
	&ldquo\;Undocumented Times: Rhetorics of a Colonial Moment&rdquo\;\n\n	&
	ldquo\;Where are you from?&rdquo\; Whenever I speak\, I get this questio
	n. The politics of our moment\, with the escalation of human induced cli
	mate change\, demand an answer for the cultivation of life. Aiming to re
	imagine political life beyond the delusions of modernity\, this talk foc
	uses on the problems facing the rhetorical possibilities for pluriversal
	 futures. Colonialism\, as a present structure rather than a past\, is t
	he political project for the exhaustion of life. By reflecting on my own
	 story of migration\, the histories of Spanish friars\, and the traces o
	f resistance in a colonial archive\, Undocumented Times: Rhetorics of a 
	Colonial Moment is a meditation on how to answer this question beyond th
	e confines of intelligible politics.&nbsp\;&nbsp\;\n\nChristopher Thrash
	er: &ldquo\;As Fixed as the Mountains\, and as Lasting as the Rivers&rdq
	uo\;\n\n	How did the Muscogee Confederacy&rsquo\;s responses to illegal 
	expansion by Georgians in the 1780s more clearly define Muscogee soverei
	gnty and reshape the U.S. politically? This question rests at the center
	 of a chapter draft for a larger dissertation project. &ldquo\;As Fixed 
	as the Mountains\, and as Lasting as the Rivers&rdquo\; reviews Muscogee
	 triumphs and tragedies in the 1780s\, culminating in the spectacle and 
	pageantry of a Muscogee delegation&rsquo\;s journey to New York City to 
	make a treaty in 1790. The Treaty of New York brought the Muscogee Confe
	deracy and the U.S. federal government into a mutually well-intentioned 
	alliance against the ambitions of Georgia\, albeit at a great cost to Mu
	scogees and with limited success.\n\nFor more details: https://events.la
	.psu.edu/event/hi_gsir-talks/
X-ALT-DESC;FMTTYPE=text/html:<html><head></head><body><p>Fall Graduate S
	cholars in Residence Talk:</p><p><i>Wayne Wapeemukwa: &ldquo;Partisans o
	f the Soil: Racial Capitalism and M&eacute;tis Dispossession&rdquo;</i><
	/p><ul>	<li>Until very recently, almost all literature about M&eacute;ti
	s was written by outsiders who centered racial whiteness and presumed th
	e rise of the Canadian state, church, and industry as inevitable. Agains
	t that tendency, I dually wield M&eacute;tis philosophy, and a fresh int
	erpretation of Marxism, to show how these missed opportunities narrowly 
	reduce intersectional M&eacute;tis identity during the &quot;Scrip-Era&q
	uot; of settler-M&eacute;tis relations (1870&ndash;1920). My study sits 
	at a convergence of M&eacute;tis ethnohistory, political philosophy, and
	 Critical Race Theory, with an eye to how &quot;half-breed scrip&quot; m
	obilized colonially-modern discourses like scientific racism, Victorian 
	patriarchy, and British civility in order to dispossess M&eacute;tis and
	 turn the plains into private property.</li></ul><p><i>Laurie Dubois: &l
	dquo;Powers of Fiction: Scholastic Novels and Forgotten Women in Third R
	epublic France (1870</i>&ndash;<i>1914)&rdquo;</i></p><ul>	<li>This proj
	ect explores a large corpus of about twenty French scholastic novels nev
	er before studied from a literary perspective. The Scholastic novel is a
	 primarily woman-led literary genre that appeared in the second half of 
	the nineteenth century that has now fallen into disuse. These publicatio
	ns were innovative hybrid texts that combined recreational appeal and pe
	dagogical function, weaving together narrative and didactic occurrences.
	 This genre reached peak popularity during Third Republic and&nbsp;&nbsp
	;focused on both transmitting knowledge and instilling values, aligned w
	ith the new national curriculum. Grounded in feminist theories, narratol
	ogy, literary analysis, Laurie argues that the lessons disseminated by e
	ach book were in fact not all &ldquo;aligned&rdquo; and vary greatly dep
	ending on the author as they used fiction as a vehicle for political and
	 ideological explorations.</li></ul><p><i>Ismael Qui&ntilde;ones: &ldquo
	;Undocumented Times: Rhetorics of a Colonial Moment&rdquo;</i></p><ul>	<
	li>&ldquo;Where are you from?&rdquo; Whenever I speak, I get this questi
	on. The politics of our moment, with the escalation of human induced cli
	mate change, demand an answer for the cultivation of life. Aiming to rei
	magine political life beyond the delusions of modernity, this talk focus
	es on the problems facing the rhetorical possibilities for pluriversal f
	utures. Colonialism, as a present structure rather than a past, is the p
	olitical project for the exhaustion of life. By reflecting on my own sto
	ry of migration, the histories of Spanish friars, and the traces of resi
	stance in a colonial archive, Undocumented Times: Rhetorics of a Colonia
	l Moment is a meditation on how to answer this question beyond the confi
	nes of intelligible politics.&nbsp;&nbsp;</li></ul><p><i>Christopher Thr
	asher: &ldquo;As Fixed as the Mountains, and as Lasting as the Rivers&rd
	quo;</i></p><ul>	<li>How did the Muscogee Confederacy&rsquo;s responses 
	to illegal expansion by Georgians in the 1780s more clearly define Musco
	gee sovereignty and reshape the U.S. politically? This question rests at
	 the center of a chapter draft for a larger dissertation project. &ldquo
	;As Fixed as the Mountains, and as Lasting as the Rivers&rdquo; reviews 
	Muscogee triumphs and tragedies in the 1780s, culminating in the spectac
	le and pageantry of a Muscogee delegation&rsquo;s journey to New York Ci
	ty to make a treaty in 1790. The Treaty of New York brought the Muscogee
	 Confederacy and the U.S. federal government into a mutually well-intent
	ioned alliance against the ambitions of Georgia, albeit at a great cost 
	to Muscogees and with limited success.</li></ul><p>For more details: <a 
	href='https://events.la.psu.edu/event/hi_gsir-talks/'>https://events.la.
	psu.edu/event/hi_gsir-talks/</a></p></body></html>
URL:https://hi.psu.edu/initiatives-and-programs/resident-lecture-series/
END:VEVENT
END:VCALENDAR