BEGIN:VCALENDAR
VERSION:2.0
PRODID:-//events.la.psu.edu//EN
CALSCALE:GREGORIAN
BEGIN:VTIMEZONE
TZID:America/New_York
BEGIN:STANDARD
DTSTART:20201101T020000
TZOFFSETFROM:-0400
TZOFFSETTO:-0500
RRULE:FREQ=YEARLY;BYMONTH=11;BYDAY=1SU
END:STANDARD
BEGIN:DAYLIGHT
DTSTART:20200308T020000
TZOFFSETFROM:-0500
TZOFFSETTO:-0400
RRULE:FREQ=YEARLY;BYMONTH=3;BYDAY=2SU
END:DAYLIGHT
END:VTIMEZONE
BEGIN:VEVENT
UID:2704-038ad75cd48825ca66ee8f10d561c4f9@events.la.psu.edu
DTSTAMP:20260419T170513Z
DTSTART;VALUE=DATE:20240315
SUMMARY:Graduate Internship Program (GRIP) Application Deadline
DESCRIPTION:\nThe goal of the program is to place qualified Liberal Arts
	 graduate students in semester-long professional or administrative inter
	nships in units that can benefit from their skills and expertise. The un
	it that is offering the internship covers the cost of the student&rsquo\
	;s stipend and the college covers the student&rsquo\;s tuition. \n\nFor 
	more details: https://events.la.psu.edu/event/grip-sp24-deadline/
X-ALT-DESC;FMTTYPE=text/html:<html><head></head><body><p>The goal of the
	 program is to place qualified Liberal Arts graduate students in semeste
	r-long professional or administrative internships in units that can bene
	fit from their skills and expertise. The unit that is offering the inter
	nship covers the cost of the student&rsquo;s stipend and the college cov
	ers the student&rsquo;s tuition. </p><p>For more details: <a href='https
	://events.la.psu.edu/event/grip-sp24-deadline/'>https://events.la.psu.ed
	u/event/grip-sp24-deadline/</a></p></body></html>
URL:https://la.psu.edu/graduate-students/graduate-funding/#grad-internship
END:VEVENT
END:VCALENDAR