BEGIN:VCALENDAR
VERSION:2.0
PRODID:-//events.la.psu.edu//EN
CALSCALE:GREGORIAN
BEGIN:VTIMEZONE
TZID:America/New_York
BEGIN:STANDARD
DTSTART:20201101T020000
TZOFFSETFROM:-0400
TZOFFSETTO:-0500
RRULE:FREQ=YEARLY;BYMONTH=11;BYDAY=1SU
END:STANDARD
BEGIN:DAYLIGHT
DTSTART:20200308T020000
TZOFFSETFROM:-0500
TZOFFSETTO:-0400
RRULE:FREQ=YEARLY;BYMONTH=3;BYDAY=2SU
END:DAYLIGHT
END:VTIMEZONE
BEGIN:VEVENT
UID:6677-82f309ce6a87daeb35b2f1edbeac9041@events.la.psu.edu
DTSTAMP:20260419T191015Z
DTSTART;TZID=America/New_York:20180821T133000
DTEND;TZID=America/New_York:20180821T143000
SUMMARY:German Kaffeestunde
DESCRIPTION:\nEnjoy coffee and German conversation every Tuesday of the 
	semester. Free and open to everyone who wishes to converse in German.\n\
	nFor more details: https://events.la.psu.edu/event/german_kaffeestunde_1
	16/
X-ALT-DESC;FMTTYPE=text/html:<html><head></head><body><p>Enjoy coffee an
	d German conversation every Tuesday of the semester. Free and open to ev
	eryone who wishes to converse in German.</p><p>For more details: <a href
	='https://events.la.psu.edu/event/german_kaffeestunde_116/'>https://even
	ts.la.psu.edu/event/german_kaffeestunde_116/</a></p></body></html>
LOCATION:157 Burrowes Building
END:VEVENT
BEGIN:VEVENT
UID:6677-13260e7ddde2fe4886d3d3998b789ba8@events.la.psu.edu
DTSTAMP:20260419T191015Z
DTSTART;TZID=America/New_York:20180828T133000
DTEND;TZID=America/New_York:20180828T143000
SUMMARY:German Kaffeestunde
DESCRIPTION:\nEnjoy coffee and German conversation every Tuesday of the 
	semester. Free and open to everyone who wishes to converse in German.\n\
	nFor more details: https://events.la.psu.edu/event/german_kaffeestunde_1
	16/
X-ALT-DESC;FMTTYPE=text/html:<html><head></head><body><p>Enjoy coffee an
	d German conversation every Tuesday of the semester. Free and open to ev
	eryone who wishes to converse in German.</p><p>For more details: <a href
	='https://events.la.psu.edu/event/german_kaffeestunde_116/'>https://even
	ts.la.psu.edu/event/german_kaffeestunde_116/</a></p></body></html>
LOCATION:157 Burrowes Building
END:VEVENT
BEGIN:VEVENT
UID:6677-3459495e72dbe87e5cb6286a9e730bf9@events.la.psu.edu
DTSTAMP:20260419T191015Z
DTSTART;TZID=America/New_York:20180904T133000
DTEND;TZID=America/New_York:20180904T143000
SUMMARY:German Kaffeestunde
DESCRIPTION:\nEnjoy coffee and German conversation every Tuesday of the 
	semester. Free and open to everyone who wishes to converse in German.\n\
	nFor more details: https://events.la.psu.edu/event/german_kaffeestunde_1
	16/
X-ALT-DESC;FMTTYPE=text/html:<html><head></head><body><p>Enjoy coffee an
	d German conversation every Tuesday of the semester. Free and open to ev
	eryone who wishes to converse in German.</p><p>For more details: <a href
	='https://events.la.psu.edu/event/german_kaffeestunde_116/'>https://even
	ts.la.psu.edu/event/german_kaffeestunde_116/</a></p></body></html>
LOCATION:157 Burrowes Building
END:VEVENT
BEGIN:VEVENT
UID:6677-5c4571a33fb6b17d728598a61c06016a@events.la.psu.edu
DTSTAMP:20260419T191015Z
DTSTART;TZID=America/New_York:20180911T133000
DTEND;TZID=America/New_York:20180911T143000
SUMMARY:German Kaffeestunde
DESCRIPTION:\nEnjoy coffee and German conversation every Tuesday of the 
	semester. Free and open to everyone who wishes to converse in German.\n\
	nFor more details: https://events.la.psu.edu/event/german_kaffeestunde_1
	16/
X-ALT-DESC;FMTTYPE=text/html:<html><head></head><body><p>Enjoy coffee an
	d German conversation every Tuesday of the semester. Free and open to ev
	eryone who wishes to converse in German.</p><p>For more details: <a href
	='https://events.la.psu.edu/event/german_kaffeestunde_116/'>https://even
	ts.la.psu.edu/event/german_kaffeestunde_116/</a></p></body></html>
LOCATION:157 Burrowes Building
END:VEVENT
BEGIN:VEVENT
UID:6677-29e442fd2dd4bd5dd39e5c6b16d06665@events.la.psu.edu
DTSTAMP:20260419T191015Z
DTSTART;TZID=America/New_York:20180918T133000
DTEND;TZID=America/New_York:20180918T143000
SUMMARY:German Kaffeestunde
DESCRIPTION:\nEnjoy coffee and German conversation every Tuesday of the 
	semester. Free and open to everyone who wishes to converse in German.\n\
	nFor more details: https://events.la.psu.edu/event/german_kaffeestunde_1
	16/
X-ALT-DESC;FMTTYPE=text/html:<html><head></head><body><p>Enjoy coffee an
	d German conversation every Tuesday of the semester. Free and open to ev
	eryone who wishes to converse in German.</p><p>For more details: <a href
	='https://events.la.psu.edu/event/german_kaffeestunde_116/'>https://even
	ts.la.psu.edu/event/german_kaffeestunde_116/</a></p></body></html>
LOCATION:157 Burrowes Building
END:VEVENT
BEGIN:VEVENT
UID:6677-6628fee0b82c3f28a8989952add4ee20@events.la.psu.edu
DTSTAMP:20260419T191015Z
DTSTART;TZID=America/New_York:20180925T133000
DTEND;TZID=America/New_York:20180925T143000
SUMMARY:German Kaffeestunde
DESCRIPTION:\nEnjoy coffee and German conversation every Tuesday of the 
	semester. Free and open to everyone who wishes to converse in German.\n\
	nFor more details: https://events.la.psu.edu/event/german_kaffeestunde_1
	16/
X-ALT-DESC;FMTTYPE=text/html:<html><head></head><body><p>Enjoy coffee an
	d German conversation every Tuesday of the semester. Free and open to ev
	eryone who wishes to converse in German.</p><p>For more details: <a href
	='https://events.la.psu.edu/event/german_kaffeestunde_116/'>https://even
	ts.la.psu.edu/event/german_kaffeestunde_116/</a></p></body></html>
LOCATION:157 Burrowes Building
END:VEVENT
BEGIN:VEVENT
UID:6677-b8c04577090dd7c177e328b6e0022d56@events.la.psu.edu
DTSTAMP:20260419T191015Z
DTSTART;TZID=America/New_York:20181002T133000
DTEND;TZID=America/New_York:20181002T143000
SUMMARY:German Kaffeestunde
DESCRIPTION:\nEnjoy coffee and German conversation every Tuesday of the 
	semester. Free and open to everyone who wishes to converse in German.\n\
	nFor more details: https://events.la.psu.edu/event/german_kaffeestunde_1
	16/
X-ALT-DESC;FMTTYPE=text/html:<html><head></head><body><p>Enjoy coffee an
	d German conversation every Tuesday of the semester. Free and open to ev
	eryone who wishes to converse in German.</p><p>For more details: <a href
	='https://events.la.psu.edu/event/german_kaffeestunde_116/'>https://even
	ts.la.psu.edu/event/german_kaffeestunde_116/</a></p></body></html>
LOCATION:157 Burrowes Building
END:VEVENT
BEGIN:VEVENT
UID:6677-16eec6144e8d1d07d9c44d227e8699f7@events.la.psu.edu
DTSTAMP:20260419T191015Z
DTSTART;TZID=America/New_York:20181009T133000
DTEND;TZID=America/New_York:20181009T143000
SUMMARY:German Kaffeestunde
DESCRIPTION:\nEnjoy coffee and German conversation every Tuesday of the 
	semester. Free and open to everyone who wishes to converse in German.\n\
	nFor more details: https://events.la.psu.edu/event/german_kaffeestunde_1
	16/
X-ALT-DESC;FMTTYPE=text/html:<html><head></head><body><p>Enjoy coffee an
	d German conversation every Tuesday of the semester. Free and open to ev
	eryone who wishes to converse in German.</p><p>For more details: <a href
	='https://events.la.psu.edu/event/german_kaffeestunde_116/'>https://even
	ts.la.psu.edu/event/german_kaffeestunde_116/</a></p></body></html>
LOCATION:157 Burrowes Building
END:VEVENT
BEGIN:VEVENT
UID:6677-ae7b96dd1d7402beb15781d7393413ff@events.la.psu.edu
DTSTAMP:20260419T191015Z
DTSTART;TZID=America/New_York:20181016T133000
DTEND;TZID=America/New_York:20181016T143000
SUMMARY:German Kaffeestunde
DESCRIPTION:\nEnjoy coffee and German conversation every Tuesday of the 
	semester. Free and open to everyone who wishes to converse in German.\n\
	nFor more details: https://events.la.psu.edu/event/german_kaffeestunde_1
	16/
X-ALT-DESC;FMTTYPE=text/html:<html><head></head><body><p>Enjoy coffee an
	d German conversation every Tuesday of the semester. Free and open to ev
	eryone who wishes to converse in German.</p><p>For more details: <a href
	='https://events.la.psu.edu/event/german_kaffeestunde_116/'>https://even
	ts.la.psu.edu/event/german_kaffeestunde_116/</a></p></body></html>
LOCATION:157 Burrowes Building
END:VEVENT
BEGIN:VEVENT
UID:6677-8899aa65f0331afd9d5990eb2438e0bf@events.la.psu.edu
DTSTAMP:20260419T191015Z
DTSTART;TZID=America/New_York:20181023T133000
DTEND;TZID=America/New_York:20181023T143000
SUMMARY:German Kaffeestunde
DESCRIPTION:\nEnjoy coffee and German conversation every Tuesday of the 
	semester. Free and open to everyone who wishes to converse in German.\n\
	nFor more details: https://events.la.psu.edu/event/german_kaffeestunde_1
	16/
X-ALT-DESC;FMTTYPE=text/html:<html><head></head><body><p>Enjoy coffee an
	d German conversation every Tuesday of the semester. Free and open to ev
	eryone who wishes to converse in German.</p><p>For more details: <a href
	='https://events.la.psu.edu/event/german_kaffeestunde_116/'>https://even
	ts.la.psu.edu/event/german_kaffeestunde_116/</a></p></body></html>
LOCATION:157 Burrowes Building
END:VEVENT
BEGIN:VEVENT
UID:6677-d96a5bfbf732a74fd7e155064cf3985d@events.la.psu.edu
DTSTAMP:20260419T191015Z
DTSTART;TZID=America/New_York:20181030T133000
DTEND;TZID=America/New_York:20181030T143000
SUMMARY:German Kaffeestunde
DESCRIPTION:\nEnjoy coffee and German conversation every Tuesday of the 
	semester. Free and open to everyone who wishes to converse in German.\n\
	nFor more details: https://events.la.psu.edu/event/german_kaffeestunde_1
	16/
X-ALT-DESC;FMTTYPE=text/html:<html><head></head><body><p>Enjoy coffee an
	d German conversation every Tuesday of the semester. Free and open to ev
	eryone who wishes to converse in German.</p><p>For more details: <a href
	='https://events.la.psu.edu/event/german_kaffeestunde_116/'>https://even
	ts.la.psu.edu/event/german_kaffeestunde_116/</a></p></body></html>
LOCATION:157 Burrowes Building
END:VEVENT
BEGIN:VEVENT
UID:6677-4cc4509e8fd834b6508d98bd21e1675b@events.la.psu.edu
DTSTAMP:20260419T191015Z
DTSTART;TZID=America/New_York:20181106T133000
DTEND;TZID=America/New_York:20181106T143000
SUMMARY:German Kaffeestunde
DESCRIPTION:\nEnjoy coffee and German conversation every Tuesday of the 
	semester. Free and open to everyone who wishes to converse in German.\n\
	nFor more details: https://events.la.psu.edu/event/german_kaffeestunde_1
	16/
X-ALT-DESC;FMTTYPE=text/html:<html><head></head><body><p>Enjoy coffee an
	d German conversation every Tuesday of the semester. Free and open to ev
	eryone who wishes to converse in German.</p><p>For more details: <a href
	='https://events.la.psu.edu/event/german_kaffeestunde_116/'>https://even
	ts.la.psu.edu/event/german_kaffeestunde_116/</a></p></body></html>
LOCATION:157 Burrowes Building
END:VEVENT
BEGIN:VEVENT
UID:6677-d0f252c647e1a37c8c37397279cb5a82@events.la.psu.edu
DTSTAMP:20260419T191015Z
DTSTART;TZID=America/New_York:20181113T133000
DTEND;TZID=America/New_York:20181113T143000
SUMMARY:German Kaffeestunde
DESCRIPTION:\nEnjoy coffee and German conversation every Tuesday of the 
	semester. Free and open to everyone who wishes to converse in German.\n\
	nFor more details: https://events.la.psu.edu/event/german_kaffeestunde_1
	16/
X-ALT-DESC;FMTTYPE=text/html:<html><head></head><body><p>Enjoy coffee an
	d German conversation every Tuesday of the semester. Free and open to ev
	eryone who wishes to converse in German.</p><p>For more details: <a href
	='https://events.la.psu.edu/event/german_kaffeestunde_116/'>https://even
	ts.la.psu.edu/event/german_kaffeestunde_116/</a></p></body></html>
LOCATION:157 Burrowes Building
END:VEVENT
BEGIN:VEVENT
UID:6677-ef3f69eb072b856479f49aed8f29f08d@events.la.psu.edu
DTSTAMP:20260419T191015Z
DTSTART;TZID=America/New_York:20181120T133000
DTEND;TZID=America/New_York:20181120T143000
SUMMARY:German Kaffeestunde
DESCRIPTION:\nEnjoy coffee and German conversation every Tuesday of the 
	semester. Free and open to everyone who wishes to converse in German.\n\
	nFor more details: https://events.la.psu.edu/event/german_kaffeestunde_1
	16/
X-ALT-DESC;FMTTYPE=text/html:<html><head></head><body><p>Enjoy coffee an
	d German conversation every Tuesday of the semester. Free and open to ev
	eryone who wishes to converse in German.</p><p>For more details: <a href
	='https://events.la.psu.edu/event/german_kaffeestunde_116/'>https://even
	ts.la.psu.edu/event/german_kaffeestunde_116/</a></p></body></html>
LOCATION:157 Burrowes Building
END:VEVENT
BEGIN:VEVENT
UID:6677-a07e6917916431265bb66a17f2987a51@events.la.psu.edu
DTSTAMP:20260419T191015Z
DTSTART;TZID=America/New_York:20181127T133000
DTEND;TZID=America/New_York:20181127T143000
SUMMARY:German Kaffeestunde
DESCRIPTION:\nEnjoy coffee and German conversation every Tuesday of the 
	semester. Free and open to everyone who wishes to converse in German.\n\
	nFor more details: https://events.la.psu.edu/event/german_kaffeestunde_1
	16/
X-ALT-DESC;FMTTYPE=text/html:<html><head></head><body><p>Enjoy coffee an
	d German conversation every Tuesday of the semester. Free and open to ev
	eryone who wishes to converse in German.</p><p>For more details: <a href
	='https://events.la.psu.edu/event/german_kaffeestunde_116/'>https://even
	ts.la.psu.edu/event/german_kaffeestunde_116/</a></p></body></html>
LOCATION:157 Burrowes Building
END:VEVENT
BEGIN:VEVENT
UID:6677-9aa1bfd2ed845c8a4e223d1c80bf507d@events.la.psu.edu
DTSTAMP:20260419T191015Z
DTSTART;TZID=America/New_York:20181204T133000
DTEND;TZID=America/New_York:20181204T143000
SUMMARY:German Kaffeestunde
DESCRIPTION:\nEnjoy coffee and German conversation every Tuesday of the 
	semester. Free and open to everyone who wishes to converse in German.\n\
	nFor more details: https://events.la.psu.edu/event/german_kaffeestunde_1
	16/
X-ALT-DESC;FMTTYPE=text/html:<html><head></head><body><p>Enjoy coffee an
	d German conversation every Tuesday of the semester. Free and open to ev
	eryone who wishes to converse in German.</p><p>For more details: <a href
	='https://events.la.psu.edu/event/german_kaffeestunde_116/'>https://even
	ts.la.psu.edu/event/german_kaffeestunde_116/</a></p></body></html>
LOCATION:157 Burrowes Building
END:VEVENT
BEGIN:VEVENT
UID:6677-f44f783e6c2cd33bace00f0a2da57e23@events.la.psu.edu
DTSTAMP:20260419T191015Z
DTSTART;TZID=America/New_York:20181211T133000
DTEND;TZID=America/New_York:20181211T143000
SUMMARY:German Kaffeestunde
DESCRIPTION:\nEnjoy coffee and German conversation every Tuesday of the 
	semester. Free and open to everyone who wishes to converse in German.\n\
	nFor more details: https://events.la.psu.edu/event/german_kaffeestunde_1
	16/
X-ALT-DESC;FMTTYPE=text/html:<html><head></head><body><p>Enjoy coffee an
	d German conversation every Tuesday of the semester. Free and open to ev
	eryone who wishes to converse in German.</p><p>For more details: <a href
	='https://events.la.psu.edu/event/german_kaffeestunde_116/'>https://even
	ts.la.psu.edu/event/german_kaffeestunde_116/</a></p></body></html>
LOCATION:157 Burrowes Building
END:VEVENT
END:VCALENDAR