BEGIN:VCALENDAR
VERSION:2.0
PRODID:-//events.la.psu.edu//EN
CALSCALE:GREGORIAN
BEGIN:VTIMEZONE
TZID:America/New_York
BEGIN:STANDARD
DTSTART:20201101T020000
TZOFFSETFROM:-0400
TZOFFSETTO:-0500
RRULE:FREQ=YEARLY;BYMONTH=11;BYDAY=1SU
END:STANDARD
BEGIN:DAYLIGHT
DTSTART:20200308T020000
TZOFFSETFROM:-0500
TZOFFSETTO:-0400
RRULE:FREQ=YEARLY;BYMONTH=3;BYDAY=2SU
END:DAYLIGHT
END:VTIMEZONE
BEGIN:VEVENT
UID:17833-64f8892dc37dbf6c9c3fc8538df1ba67@events.la.psu.edu
DTSTAMP:20260420T234312Z
DTSTART;TZID=America/New_York:20251210T170000
DTEND;TZID=America/New_York:20251210T200000
SUMMARY:First-Gen Cozy Study Night
DESCRIPTION:\nThe Liberal Arts First-Gen Committee is inviting first-gen
	 students to the Liberal Arts Chaiken Center for a night of studying wit
	h cookies\, hot chocolate\, and a cozy atmosphere to help prepare for fi
	nals.\n\nFor more details: https://events.la.psu.edu/event/first-gen-coz
	y/
X-ALT-DESC;FMTTYPE=text/html:<html><head></head><body><p>The Liberal Art
	s First-Gen Committee is inviting first-gen students to the Liberal Arts
	 Chaiken Center for a night of studying with cookies, hot chocolate, and
	 a cozy atmosphere to help prepare for finals.</p><p>For more details: <
	a href='https://events.la.psu.edu/event/first-gen-cozy/'>https://events.
	la.psu.edu/event/first-gen-cozy/</a></p></body></html>
LOCATION:Liberal Arts Chaiken Center for Student Success, 139 Sparks Building
END:VEVENT
END:VCALENDAR