BEGIN:VCALENDAR
VERSION:2.0
PRODID:-//events.la.psu.edu//EN
CALSCALE:GREGORIAN
BEGIN:VTIMEZONE
TZID:America/New_York
BEGIN:STANDARD
DTSTART:20201101T020000
TZOFFSETFROM:-0400
TZOFFSETTO:-0500
RRULE:FREQ=YEARLY;BYMONTH=11;BYDAY=1SU
END:STANDARD
BEGIN:DAYLIGHT
DTSTART:20200308T020000
TZOFFSETFROM:-0500
TZOFFSETTO:-0400
RRULE:FREQ=YEARLY;BYMONTH=3;BYDAY=2SU
END:DAYLIGHT
END:VTIMEZONE
BEGIN:VEVENT
UID:3139-62c10fd002ab7617c0ac3b5f2855589d@events.la.psu.edu
DTSTAMP:20260426T024932Z
DTSTART;TZID=America/New_York:20230919T160000
DTEND;TZID=America/New_York:20230919T164500
SUMMARY:Federal Employment Week: Careers in Intelligence Panel
DESCRIPTION:\nAs a part of Federal Employment Week\, join us for a panel
	 of employers and alumni who work within the intelligence field. Learn m
	ore about the hiring process of federal intelligence agencies\, as well 
	as how to gain relevant experience while at Penn State to land positions
	 within this area of work.&nbsp\;&nbsp\;\n\nPanelists:\n\nSharon Callaha
	n\n\nJob Title: Independent Consultant (Trainer/Mentor)\, Central Intell
	igence Agency (CIA)\n\nClass of 1983\n\nPenn State Major: French Busines
	s\n\nVic Curley\n\nJob Title: Supervisory Special Agent\, U.S. Departmen
	t of Homeland Security Investigations (HSI)\n\nClass of 2004\n\nPenn Sta
	te Major: Crime\, Law\, and Justice\n\nCourtney Kay\n\nJob Title: Junior
	 Digital Investigations Analyst\, Protection Group International\n\nClas
	s of 2020\n\nPenn State Major: Psychology\n\nJohn Warrington\n\nJob Titl
	e: Senior Supervisory Resident Agent (Retired)\, Federal Bureau of Inves
	tigation (FBI)\n\nClass of 1988\n\nPenn State Major: Individual and Fami
	ly Studies\n\nThis event is provided by the Liberal Arts Career Enrichme
	nt Network. If you have questions\, please contact lanetwork@psu.edu or 
	814-865-1070.&nbsp\;&nbsp\;\n\nConnect via Zoom. Penn State log-in requi
	red.\n\nFor more details: https://events.la.psu.edu/event/few_careers-in
	-intelligence/
X-ALT-DESC;FMTTYPE=text/html:<html><head></head><body><p>As a part of Fe
	deral Employment Week, join us for a panel of employers and alumni who w
	ork within the intelligence field. Learn more about the hiring process o
	f federal intelligence agencies, as well as how to gain relevant experie
	nce while at Penn State to land positions within this area of work.&nbsp
	;&nbsp;</p><p><b>Panelists:</b><br /><b>Sharon Callahan</b><br />Job Tit
	le: Independent Consultant (Trainer/Mentor), Central Intelligence Agency
	 (CIA)<br />Class of 1983<br />Penn State Major: French Business<br /><b
	r /><b>Vic Curley</b><br />Job Title: Supervisory Special Agent, U.S. De
	partment of Homeland Security Investigations (HSI)<br />Class of 2004<br
	 />Penn State Major: Crime, Law, and Justice<br /><br /><b>Courtney Kay<
	/b><br />Job Title: Junior Digital Investigations Analyst, Protection Gr
	oup International<br />Class of 2020<br />Penn State Major: Psychology<b
	r /><br /><b>John Warrington</b><br />Job Title: Senior Supervisory Resi
	dent Agent (Retired), Federal Bureau of Investigation (FBI)<br />Class o
	f 1988<br />Penn State Major: Individual and Family Studies</p><p><i>Thi
	s event is provided by the <a href="https://la.psu.edu/current-students/
	career-enrichment-network/">Liberal Arts Career Enrichment Network</a>. 
	If you have questions, please contact <a href="mailto:lanetwork@psu.edu"
	>lanetwork@psu.edu</a> or 814-865-1070.&nbsp;</i>&nbsp;</p><p><a href="h
	ttps://psu.zoom.us/webinar/register/WN_PIcBEKZpR7qxZQESRtwOjw#/registrat
	ion">Connect via Zoom</a>. Penn State log-in required.</p><p>For more de
	tails: <a href='https://events.la.psu.edu/event/few_careers-in-intellige
	nce/'>https://events.la.psu.edu/event/few_careers-in-intelligence/</a></
	p></body></html>
END:VEVENT
END:VCALENDAR