BEGIN:VCALENDAR
VERSION:2.0
PRODID:-//events.la.psu.edu//EN
CALSCALE:GREGORIAN
BEGIN:VTIMEZONE
TZID:America/New_York
BEGIN:STANDARD
DTSTART:20201101T020000
TZOFFSETFROM:-0400
TZOFFSETTO:-0500
RRULE:FREQ=YEARLY;BYMONTH=11;BYDAY=1SU
END:STANDARD
BEGIN:DAYLIGHT
DTSTART:20200308T020000
TZOFFSETFROM:-0500
TZOFFSETTO:-0400
RRULE:FREQ=YEARLY;BYMONTH=3;BYDAY=2SU
END:DAYLIGHT
END:VTIMEZONE
BEGIN:VEVENT
UID:5733-b5f0db38600d14b0e7a9a0fcb4d65d54@events.la.psu.edu
DTSTAMP:20260421T150943Z
DTSTART;TZID=America/New_York:20200320T090000
DTEND;TZID=America/New_York:20200320T103000
SUMMARY:Eric Pelzl (Penn State)
DESCRIPTION:For more details: https://events.la.psu.edu/event/eric_pelzl
	_penn_state/
X-ALT-DESC;FMTTYPE=text/html:<p>For more details: <a href='https://event
	s.la.psu.edu/event/eric_pelzl_penn_state/'>https://events.la.psu.edu/eve
	nt/eric_pelzl_penn_state/</a></p>
LOCATION:127 Moore Building
END:VEVENT
END:VCALENDAR