BEGIN:VCALENDAR
VERSION:2.0
PRODID:-//events.la.psu.edu//EN
CALSCALE:GREGORIAN
BEGIN:VTIMEZONE
TZID:America/New_York
BEGIN:STANDARD
DTSTART:20201101T020000
TZOFFSETFROM:-0400
TZOFFSETTO:-0500
RRULE:FREQ=YEARLY;BYMONTH=11;BYDAY=1SU
END:STANDARD
BEGIN:DAYLIGHT
DTSTART:20200308T020000
TZOFFSETFROM:-0500
TZOFFSETTO:-0400
RRULE:FREQ=YEARLY;BYMONTH=3;BYDAY=2SU
END:DAYLIGHT
END:VTIMEZONE
BEGIN:VEVENT
UID:18102-84b2bacbf6da5e45d9133dbc80d3de31@events.la.psu.edu
DTSTAMP:20260423T202122Z
DTSTART;TZID=America/New_York:20260318T170000
DTEND;TZID=America/New_York:20260318T183000
SUMMARY:EPPIC Academic Workshop: Research Writing in English Series
DESCRIPTION:\nAre you an international student who needs to write a rese
	arch paper? This workshop will help you:\n\nConsider different types of 
	papers commonly found in academia\nDiscuss which elements of introductio
	n and methods sections are prevalent in your field\nReview sentence stru
	ctures commonly used in these sections\nAnalyze sample texts for useful 
	phrases and patterns\n\nFor more details: https://events.la.psu.edu/even
	t/eppic-writing-intros-methods-research-papers/
X-ALT-DESC;FMTTYPE=text/html:<html><head></head><body><p>Are you an inte
	rnational student who needs to write a research paper? This workshop wil
	l help you:</p><ul><li>Consider different types of papers commonly found
	 in academia</li><li>Discuss which elements of introduction and methods 
	sections are prevalent in your field</li><li>Review sentence structures 
	commonly used in these sections</li><li>Analyze sample texts for useful 
	phrases and patterns</li></ul><p>For more details: <a href='https://even
	ts.la.psu.edu/event/eppic-writing-intros-methods-research-papers/'>https
	://events.la.psu.edu/event/eppic-writing-intros-methods-research-papers/
	</a></p></body></html>
URL:https://apps.powerapps.com/play/e/04aa84d0-9caa-e13c-97b1-d9b7005e3800/a
	/92f8e783-cdca-41ce-9573-ade17de85106?tenantId=7cf48d45-3ddb-4389-a9c1-c
	115526eb52e&amp;sourcetime=2023-08-11%2013%3A09%3A05Z
END:VEVENT
END:VCALENDAR