BEGIN:VCALENDAR
VERSION:2.0
PRODID:-//events.la.psu.edu//EN
CALSCALE:GREGORIAN
BEGIN:VTIMEZONE
TZID:America/New_York
BEGIN:STANDARD
DTSTART:20201101T020000
TZOFFSETFROM:-0400
TZOFFSETTO:-0500
RRULE:FREQ=YEARLY;BYMONTH=11;BYDAY=1SU
END:STANDARD
BEGIN:DAYLIGHT
DTSTART:20200308T020000
TZOFFSETFROM:-0500
TZOFFSETTO:-0400
RRULE:FREQ=YEARLY;BYMONTH=3;BYDAY=2SU
END:DAYLIGHT
END:VTIMEZONE
BEGIN:VEVENT
UID:2845-9f43ba244fa9b67f93f2f82074cef766@events.la.psu.edu
DTSTAMP:20260419T153600Z
DTSTART;TZID=America/New_York:20231115T163000
DTEND;TZID=America/New_York:20231115T180000
SUMMARY:EPPIC Workshop: Interacting During Presentations: Tips for Dealing with 
	Questions
DESCRIPTION:\nAre you an international student preparing an upcoming aca
	demic presentation?\n\nIN THIS WORKSHOP\, YOU WILL:\n\n	Gain confidence 
	through strategies to answer audience questions\n	Learn common phrases t
	o deal with challenging situations\n	Engage with your audience to put th
	em\, and yourself\, at ease\n\nSpace is limited so register now on our n
	ew registration app!\n\nFor more details: https://events.la.psu.edu/even
	t/eppic-presentation-questions_111523/
X-ALT-DESC;FMTTYPE=text/html:<html><head></head><body><p>Are you an inte
	rnational student preparing an upcoming academic presentation?</p><p>IN 
	THIS WORKSHOP, YOU WILL:</p><ul>	<li>Gain confidence through strategies 
	to answer audience questions</li>	<li>Learn common phrases to deal with 
	challenging situations</li>	<li>Engage with your audience to put them, a
	nd yourself, at ease</li></ul><p>Space is limited so register now on our
	 <a href="https://apps.powerapps.com/play/e/04aa84d0-9caa-e13c-97b1-d9b7
	005e3800/a/92f8e783-cdca-41ce-9573-ade17de85106?tenantId=7cf48d45-3ddb-4
	389-a9c1-c115526eb52e&amp;sourcetime=2023-08-11%2013%3A09%3A05Z"><i>new<
	/i> registration app</a>!</p><p>For more details: <a href='https://event
	s.la.psu.edu/event/eppic-presentation-questions_111523/'>https://events.
	la.psu.edu/event/eppic-presentation-questions_111523/</a></p></body></ht
	ml>
URL:https://eppic.la.psu.edu
LOCATION:208 Business Building
END:VEVENT
END:VCALENDAR