BEGIN:VCALENDAR
VERSION:2.0
PRODID:-//events.la.psu.edu//EN
CALSCALE:GREGORIAN
BEGIN:VTIMEZONE
TZID:America/New_York
BEGIN:STANDARD
DTSTART:20201101T020000
TZOFFSETFROM:-0400
TZOFFSETTO:-0500
RRULE:FREQ=YEARLY;BYMONTH=11;BYDAY=1SU
END:STANDARD
BEGIN:DAYLIGHT
DTSTART:20200308T020000
TZOFFSETFROM:-0500
TZOFFSETTO:-0400
RRULE:FREQ=YEARLY;BYMONTH=3;BYDAY=2SU
END:DAYLIGHT
END:VTIMEZONE
BEGIN:VEVENT
UID:16078-623741f44f1ff019beb67aacf9bc269b@events.la.psu.edu
DTSTAMP:20260423T063714Z
DTSTART;TZID=America/New_York:20250906T090000
DTEND;TZID=America/New_York:20250906T110000
SUMMARY:“Nollywood\'s narrative power: Shaping Africa\'s image and story” with P
	ete Edochie
DESCRIPTION:\nChief Pete Edochie\, is one of Nigeria’s most talented act
	ors\, Edochie was honored with an Industry Merit Award by Africa Magic a
	nd Lifetime Achievement by Africa Film Academy. Once an administrator an
	d broadcaster\,he came into prominence in the 1980s\, when he played the
	 lead role of 'Okonkwo' in a Nigerian Television Authority adaptation of
	 Chinua Achebe’s all-time best-selling novel\, Things Fall Apart. His pe
	rformance was so impactful that the BBC flew to Nigeria to interview him
	 about his portrayal of Okonkwo. In 2003\, he was honored as a Member of
	 the Order of the Niger by President Olusegun Obasanjo. Chief Pete Edoch
	ie has acted in over 200 movies\n\nFor more details: https://events.la.p
	su.edu/event/edochie/
X-ALT-DESC;FMTTYPE=text/html:<html><head></head><body><p>Chief Pete Edoc
	hie, is one of Nigeria’s most talented actors, Edochie was honored with 
	an Industry Merit Award by Africa Magic and Lifetime Achievement by Afri
	ca Film Academy. Once an administrator and broadcaster,he came into prom
	inence in the 1980s, when he played the lead role of 'Okonkwo' in a Nige
	rian Television Authority adaptation of Chinua Achebe’s all-time best-se
	lling novel, Things Fall Apart. His performance was so impactful that th
	e BBC flew to Nigeria to interview him about his portrayal of Okonkwo. I
	n 2003, he was honored as a Member of the Order of the Niger by Presiden
	t Olusegun Obasanjo. Chief Pete Edochie has acted in over 200 movies</p>
	<p>For more details: <a href='https://events.la.psu.edu/event/edochie/'>
	https://events.la.psu.edu/event/edochie/</a></p></body></html>
END:VEVENT
END:VCALENDAR