BEGIN:VCALENDAR
VERSION:2.0
PRODID:-//events.la.psu.edu//EN
CALSCALE:GREGORIAN
BEGIN:VTIMEZONE
TZID:America/New_York
BEGIN:STANDARD
DTSTART:20201101T020000
TZOFFSETFROM:-0400
TZOFFSETTO:-0500
RRULE:FREQ=YEARLY;BYMONTH=11;BYDAY=1SU
END:STANDARD
BEGIN:DAYLIGHT
DTSTART:20200308T020000
TZOFFSETFROM:-0500
TZOFFSETTO:-0400
RRULE:FREQ=YEARLY;BYMONTH=3;BYDAY=2SU
END:DAYLIGHT
END:VTIMEZONE
BEGIN:VEVENT
UID:13718-b446d9029385684eec527d096fca4fb8@events.la.psu.edu
DTSTAMP:20260423T052935Z
DTSTART;TZID=America/New_York:20241107T193000
DTEND;TZID=America/New_York:20241107T213000
SUMMARY:Drag Makeup Social
DESCRIPTION:\nJoin us for an exciting Makeup Social where you’ll have th
	e chance to learn the art of drag and drag makeup directly from the tale
	nted queens of Opulence. During this social\, our fabulous drag queens w
	ill guide you through essential makeup techniques\, sharing tips on achi
	eving those bold\, beautiful looks. This is a great opportunity to learn
	 more about drag culture\, make friends\, and have a lot of fun!\n\nFor 
	more details: https://events.la.psu.edu/event/drag-makeup-social/
X-ALT-DESC;FMTTYPE=text/html:<html><head></head><body><p>Join us for an 
	exciting Makeup Social where you’ll have the chance to learn the art of 
	drag and drag makeup directly from the talented queens of Opulence. Duri
	ng this social, our fabulous drag queens will guide you through essentia
	l makeup techniques, sharing tips on achieving those bold, beautiful loo
	ks. This is a great opportunity to learn more about drag culture, make f
	riends, and have a lot of fun!</p><p>For more details: <a href='https://
	events.la.psu.edu/event/drag-makeup-social/'>https://events.la.psu.edu/e
	vent/drag-makeup-social/</a></p></body></html>
LOCATION:113 Thomas Building
END:VEVENT
END:VCALENDAR