BEGIN:VCALENDAR
VERSION:2.0
PRODID:-//events.la.psu.edu//EN
CALSCALE:GREGORIAN
BEGIN:VTIMEZONE
TZID:America/New_York
BEGIN:STANDARD
DTSTART:20201101T020000
TZOFFSETFROM:-0400
TZOFFSETTO:-0500
RRULE:FREQ=YEARLY;BYMONTH=11;BYDAY=1SU
END:STANDARD
BEGIN:DAYLIGHT
DTSTART:20200308T020000
TZOFFSETFROM:-0500
TZOFFSETTO:-0400
RRULE:FREQ=YEARLY;BYMONTH=3;BYDAY=2SU
END:DAYLIGHT
END:VTIMEZONE
BEGIN:VEVENT
UID:14072-8ae27f44afa170e3e64abd4fad99e9a9@events.la.psu.edu
DTSTAMP:20260419T225530Z
DTSTART;TZID=America/New_York:20250417T153000
DTEND;TZID=America/New_York:20250417T170000
SUMMARY:Digital Culture + Media Initiative presents Aaron Shapiro
DESCRIPTION:\nAaron Shapiro\, University of North Carolina\, Chapel Hill
	\; author of Design\, Control\, Predict: Logistical Governance in the Sm
	art City (Minnesota 2020)\, “Platform Urbanism in a Pandemic: Dark Store
	s\, Ghost Kitchens\, and the Logistical-Urban Frontier” (Journal of Cons
	umer Culture 2022)\, and “Optimizing the Immeasurable On the Techno-Ethi
	cal Limits of Predictive Policing” (Artificial Intelligence and the City
	 2023).\n\nFor more details: https://events.la.psu.edu/event/dcmi-aaron-
	shapiro/
X-ALT-DESC;FMTTYPE=text/html:<html><head></head><body><p>Aaron Shapiro, 
	University of North Carolina, Chapel Hill; author of <em>Design, Control
	, Predict: Logistical Governance in the Smart City</em> (Minnesota 2020)
	, <em>“</em>Platform Urbanism in a Pandemic: Dark Stores, Ghost Kitchens
	, and the Logistical-Urban Frontier<em>”</em> (Journal of Consumer Cultu
	re 2022), and <em>“</em>Optimizing the Immeasurable On the Techno-Ethica
	l Limits of Predictive Policing<em>” </em>(Artificial Intelligence and t
	he City 2023).</p><p>For more details: <a href='https://events.la.psu.ed
	u/event/dcmi-aaron-shapiro/'>https://events.la.psu.edu/event/dcmi-aaron-
	shapiro/</a></p></body></html>
LOCATION:Grucci Room, 102 Burrowes Building
END:VEVENT
END:VCALENDAR