BEGIN:VCALENDAR
VERSION:2.0
PRODID:-//events.la.psu.edu//EN
CALSCALE:GREGORIAN
BEGIN:VTIMEZONE
TZID:America/New_York
BEGIN:STANDARD
DTSTART:20201101T020000
TZOFFSETFROM:-0400
TZOFFSETTO:-0500
RRULE:FREQ=YEARLY;BYMONTH=11;BYDAY=1SU
END:STANDARD
BEGIN:DAYLIGHT
DTSTART:20200308T020000
TZOFFSETFROM:-0500
TZOFFSETTO:-0400
RRULE:FREQ=YEARLY;BYMONTH=3;BYDAY=2SU
END:DAYLIGHT
END:VTIMEZONE
BEGIN:VEVENT
UID:14400-93a619582698ae2542c09d753c2442b2@events.la.psu.edu
DTSTAMP:20260419T160920Z
DTSTART;TZID=America/New_York:20250214T150000
DTEND;TZID=America/New_York:20250214T163000
SUMMARY:Darwin Day 2025
DESCRIPTION:\nJoin us for our Darwin Day 2025 Lecture!\n\nNina Jablonski
	\, Ph.D.\, Atherton and Evan Pugh Professor Emerita of Anthropology\, wi
	ll be presenting her talk “The Skin in the Game of Evolution: How Human 
	Skin Illustrates Darwinian Evolution and Much More”\n\nEverything about 
	human skin\, from its apparent nakedness and potential sweatiness to its
	 many inherent colors and exquisite sensitivity\, is the product of evol
	ution. This lecture will draw upon the rich and diverse evidence from pa
	leontology\, physiology\, climatology\, genetics\, microbiology\, and ot
	her fields that has led to our current understanding of the evolution of
	 human skin. It will also explore how the preeminence of vision and lang
	uage in humans paved the way for our ability to rapidly assess skin trai
	ts and then transmit impressions and value judgements of skin color and 
	other traits to others\, often with disastrous results. Learning the bas
	ics of skin evolution instills valuable information about Darwinian evol
	ution and a deep appreciation of the beauty of human diversity. It also 
	provides the foundation of an educational curriculum for an anti-racist 
	world.\n\nLight reception immediately following the lecture in the Chaik
	en Family Atrium.\n\nCo-sponsored by the Center for Human Evolution and 
	Diversity in the College of the Liberal Arts and the Huck Institutes of 
	the Life Sciences\n\nFor more details: https://events.la.psu.edu/event/d
	arwin-day-2025/
X-ALT-DESC;FMTTYPE=text/html:<html><head></head><body><p>Join us for our
	 Darwin Day 2025 Lecture!</p><p><strong>Nina Jablonski, Ph.D.</strong>, 
	Atherton and Evan Pugh Professor Emerita of Anthropology, will be presen
	ting her talk “The Skin in the Game of Evolution: How Human Skin Illustr
	ates Darwinian Evolution and Much More”</p><p>Everything about human ski
	n, from its apparent nakedness and potential sweatiness to its many inhe
	rent colors and exquisite sensitivity, is the product of evolution. This
	 lecture will draw upon the rich and diverse evidence from paleontology,
	 physiology, climatology, genetics, microbiology, and other fields that 
	has led to our current understanding of the evolution of human skin. It 
	will also explore how the preeminence of vision and language in humans p
	aved the way for our ability to rapidly assess skin traits and then tran
	smit impressions and value judgements of skin color and other traits to 
	others, often with disastrous results. Learning the basics of skin evolu
	tion instills valuable information about Darwinian evolution and a deep 
	appreciation of the beauty of human diversity. It also provides the foun
	dation of an educational curriculum for an anti-racist world.</p><p><str
	ong>Light reception immediately following the lecture in the Chaiken Fam
	ily Atrium.</strong></p><p>Co-sponsored by the Center for Human Evolutio
	n and Diversity in the College of the Liberal Arts and the Huck Institut
	es of the Life Sciences</p><p>For more details: <a href='https://events.
	la.psu.edu/event/darwin-day-2025/'>https://events.la.psu.edu/event/darwi
	n-day-2025/</a></p></body></html>
LOCATION:114 Welch Building
END:VEVENT
END:VCALENDAR