BEGIN:VCALENDAR
VERSION:2.0
PRODID:-//events.la.psu.edu//EN
CALSCALE:GREGORIAN
BEGIN:VTIMEZONE
TZID:America/New_York
BEGIN:STANDARD
DTSTART:20201101T020000
TZOFFSETFROM:-0400
TZOFFSETTO:-0500
RRULE:FREQ=YEARLY;BYMONTH=11;BYDAY=1SU
END:STANDARD
BEGIN:DAYLIGHT
DTSTART:20200308T020000
TZOFFSETFROM:-0500
TZOFFSETTO:-0400
RRULE:FREQ=YEARLY;BYMONTH=3;BYDAY=2SU
END:DAYLIGHT
END:VTIMEZONE
BEGIN:VEVENT
UID:17800-4dfdce195b4454e66edb6e5a79ea3905@events.la.psu.edu
DTSTAMP:20260422T194753Z
DTSTART;TZID=America/New_York:20251120T120000
DTEND;TZID=America/New_York:20251120T130000
SUMMARY:Consortium Workshop: Jodie Jensen
DESCRIPTION:\nThis presentation examines the philosophical assumptions u
	nderlying how researchers define and study empathy and the self. I will 
	interrogate what we mean by “perspective-taking\,” and the implications 
	these meanings carry for empirical work. In practice\, does perspective-
	taking actually entail that the self subsumes the other—projecting one’s
	 own opinions\, beliefs\, emotions\, and sacred values onto them? Or doe
	s it mean that the self is subsumed by the other - becoming so porous th
	at it loses fidelity to its own core commitments? As Levinas reminds us\
	, the other is never fully graspable within the terms of the self\, comp
	licating assumptions about what empathy can achieve. I will introduce a 
	conceptual model that supports genuine perspective-taking while maintain
	ing fidelity to the self\, fostering empathy that honors both self and o
	ther. This model encourages principled\, collaborative solutions—even in
	 polarized contexts—and opens the door for interdisciplinary engagement.
	\n\nFor more details: https://events.la.psu.edu/event/consortium-worksho
	p-jodie-jensen/
X-ALT-DESC;FMTTYPE=text/html:<html><head></head><body><p>This presentati
	on examines the philosophical assumptions underlying how researchers def
	ine and study empathy and the self. I will interrogate what we mean by “
	perspective-taking,” and the implications these meanings carry for empir
	ical work. In practice, does perspective-taking actually entail that the
	 self subsumes the other—projecting one’s own opinions, beliefs, emotion
	s, and sacred values onto them? Or does it mean that the self is subsume
	d by the other - becoming so porous that it loses fidelity to its own co
	re commitments? As Levinas reminds us, the other is never fully graspabl
	e within the terms of the self, complicating assumptions about what empa
	thy can achieve. I will introduce a conceptual model that supports genui
	ne perspective-taking while maintaining fidelity to the self, fostering 
	empathy that honors both self and other. This model encourages principle
	d, collaborative solutions—even in polarized contexts—and opens the door
	 for interdisciplinary engagement.</p><p>For more details: <a href='http
	s://events.la.psu.edu/event/consortium-workshop-jodie-jensen/'>https://e
	vents.la.psu.edu/event/consortium-workshop-jodie-jensen/</a></p></body><
	/html>
URL:https://moralconsortium.psu.edu
END:VEVENT
END:VCALENDAR