BEGIN:VCALENDAR
VERSION:2.0
PRODID:-//events.la.psu.edu//EN
CALSCALE:GREGORIAN
BEGIN:VTIMEZONE
TZID:America/New_York
BEGIN:STANDARD
DTSTART:20201101T020000
TZOFFSETFROM:-0400
TZOFFSETTO:-0500
RRULE:FREQ=YEARLY;BYMONTH=11;BYDAY=1SU
END:STANDARD
BEGIN:DAYLIGHT
DTSTART:20200308T020000
TZOFFSETFROM:-0500
TZOFFSETTO:-0400
RRULE:FREQ=YEARLY;BYMONTH=3;BYDAY=2SU
END:DAYLIGHT
END:VTIMEZONE
BEGIN:VEVENT
UID:2893-a110375bc482a4ab0cecf48050ca5c19@events.la.psu.edu
DTSTAMP:20260421T204851Z
DTSTART;TZID=America/New_York:20231106T121500
DTEND;TZID=America/New_York:20231106T133000
SUMMARY:Comparative Literature Luncheon: Christopher Lowy
DESCRIPTION:\nChristopher Lowy\, assistant professor of Japanese studies
	 at Carnegie Mellon University\, presents “What We (Don’t) Talk About Wh
	en Talk About Literature: The Visual Representation of Language and Why 
	It Matters.”\n\nFor more details: https://events.la.psu.edu/event/cmlit-
	luncheon_110623/
X-ALT-DESC;FMTTYPE=text/html:<html><head></head><body><p><b>Christopher 
	Lowy</b>, assistant professor of Japanese studies at Carnegie Mellon Uni
	versity, presents “What We (Don’t) Talk About When Talk About Literature
	: The Visual Representation of Language and Why It Matters.”</p><p>For m
	ore details: <a href='https://events.la.psu.edu/event/cmlit-luncheon_110
	623/'>https://events.la.psu.edu/event/cmlit-luncheon_110623/</a></p></bo
	dy></html>
URL:https://complit.la.psu.edu/news-events/comp-lit-luncheon-series
LOCATION:102 Kern Building
END:VEVENT
END:VCALENDAR