BEGIN:VCALENDAR
VERSION:2.0
PRODID:-//events.la.psu.edu//EN
CALSCALE:GREGORIAN
BEGIN:VTIMEZONE
TZID:America/New_York
BEGIN:STANDARD
DTSTART:20201101T020000
TZOFFSETFROM:-0400
TZOFFSETTO:-0500
RRULE:FREQ=YEARLY;BYMONTH=11;BYDAY=1SU
END:STANDARD
BEGIN:DAYLIGHT
DTSTART:20200308T020000
TZOFFSETFROM:-0500
TZOFFSETTO:-0400
RRULE:FREQ=YEARLY;BYMONTH=3;BYDAY=2SU
END:DAYLIGHT
END:VTIMEZONE
BEGIN:VEVENT
UID:4048-4a8031b7d95e308b093db7936eff2753@events.la.psu.edu
DTSTAMP:20260424T184946Z
DTSTART;TZID=America/New_York:20220926T122500
DTEND;TZID=America/New_York:20220926T133000
SUMMARY:Comparative Literature Luncheon: Elizabeth Gray
DESCRIPTION:\nThe Comparative Literature Luncheon&nbsp\;presents&nbsp\;E
	lizabeth Gray (Penn State).\n\nContact Olivia Brown at&nbsp\;odb2@psu.ed
	u&nbsp\;for more information.&nbsp\;\n\nFor more details: https://events
	.la.psu.edu/event/cmlit-luncheon_092622/
X-ALT-DESC;FMTTYPE=text/html:<html><head></head><body><p>The Comparative
	 Literature Luncheon&nbsp;presents&nbsp;Elizabeth Gray (Penn State).</p>
	<p>Contact Olivia Brown at&nbsp;<a href="mailto:odb2@psu.ed" rel="noopen
	er noreferrer" target="_blank">odb2@psu.edu</a>&nbsp;for more informatio
	n.&nbsp;</p><p>For more details: <a href='https://events.la.psu.edu/even
	t/cmlit-luncheon_092622/'>https://events.la.psu.edu/event/cmlit-luncheon
	_092622/</a></p></body></html>
URL:https://complit.la.psu.edu/news-events/comp-lit-luncheon-series
LOCATION:102 Kern Building
END:VEVENT
END:VCALENDAR