BEGIN:VCALENDAR
VERSION:2.0
PRODID:-//events.la.psu.edu//EN
CALSCALE:GREGORIAN
BEGIN:VTIMEZONE
TZID:America/New_York
BEGIN:STANDARD
DTSTART:20201101T020000
TZOFFSETFROM:-0400
TZOFFSETTO:-0500
RRULE:FREQ=YEARLY;BYMONTH=11;BYDAY=1SU
END:STANDARD
BEGIN:DAYLIGHT
DTSTART:20200308T020000
TZOFFSETFROM:-0500
TZOFFSETTO:-0400
RRULE:FREQ=YEARLY;BYMONTH=3;BYDAY=2SU
END:DAYLIGHT
END:VTIMEZONE
BEGIN:VEVENT
UID:4916-f5c2bda0fa8930021e9b6b78d74275f8@events.la.psu.edu
DTSTAMP:20260420T070605Z
DTSTART;TZID=America/New_York:20210920T121500
DTEND;TZID=America/New_York:20210920T133000
SUMMARY:CMLIT Luncheon with Arturo Arias
DESCRIPTION:\n&ldquo\;New Narratives in Indigenous Languages: Creativity
	 and the Struggle Against Racism in Colonialized Spaces&rdquo\;\n\nArtur
	o Arias\n\nUniversity of California\, Merced\n\nThis talk will address r
	ecent fiction written by Native Mesoamerican authors\, highlighting thei
	r epistemic dimensions and ontological implications. These narratives\, 
	written bilingually in the authors&rsquo\; native languages and in Spani
	sh\, are primarily organized around racialization. They dramatize how In
	digenous bodies were disciplined\, treated as commodities to be bought a
	nd sold\, and how these issues have spilled into contemporary political 
	life. At the same time\, their struggles are inscribed within a validati
	on of their beingness as non-Western cultures struggling to be recognize
	d to end racism and economic exploitation\, while marking epistemologica
	l ruptures with Western-centric civilizing teleology.\n\n&nbsp\;\n\nArtu
	ro Arias\, John D. and Catherine T. MacArthur Foundation Professor in th
	e Humanities at the University of California\, Merced. He has published 
	Recovering Lost Footprints: Contemporary Maya Narratives. Volumes 1 (201
	7)\, and 2 (2018). Taking their Word: Literature and the Signs of Centra
	l America (2007)\, The Rigoberta Mench&uacute\; Controversy (2000)\, The
	 Identity of the Word: Guatemalan Literature in Light of the New Century
	 (1998)\, Ceremonial Gestures: Central American Fiction 1960-1990 (1998)
	\, and a critical edition of Miguel Angel Asturias&rsquo\;s Mulata (2000
	).\n\nPlease register in advance.\n\nFor more details: https://events.la
	.psu.edu/event/cmlit-luncheon_0920/
X-ALT-DESC;FMTTYPE=text/html:<html><head></head><body><p>&ldquo;New Narr
	atives in Indigenous Languages: Creativity and the Struggle Against Raci
	sm in Colonialized Spaces&rdquo;</p><p>Arturo Arias</p><p>University of 
	California, Merced</p><p>This talk will address recent fiction written b
	y Native Mesoamerican authors, highlighting their epistemic dimensions a
	nd ontological implications. These narratives, written bilingually in th
	e authors&rsquo; native languages and in Spanish, are primarily organize
	d around racialization. They dramatize how Indigenous bodies were discip
	lined, treated as commodities to be bought and sold, and how these issue
	s have spilled into contemporary political life. At the same time, their
	 struggles are inscribed within a validation of their beingness as non-W
	estern cultures struggling to be recognized to end racism and economic e
	xploitation, while marking epistemological ruptures with Western-centric
	 civilizing teleology.</p><p>&nbsp;</p><p><b>Arturo Arias</b>, John D. a
	nd Catherine T. MacArthur Foundation Professor in the Humanities at the 
	University of California, Merced. He has published <i>Recovering Lost Fo
	otprints: Contemporary Maya Narratives. Volumes 1 </i>(2017), and <i>2</
	i> (2018). <i>Taking their Word: Literature and the Signs of Central Ame
	rica </i>(2007), <i>The Rigoberta Mench&uacute; Controversy </i>(2000)<i
	>,</i> <i>The Identity of the Word: Guatemalan Literature in Light of th
	e New Century </i>(1998), <i>Ceremonial Gestures: Central American Ficti
	on 1960-1990 </i>(1998), and a critical edition of Miguel Angel Asturias
	&rsquo;s <i>Mulata</i> (2000).</p><p>Please register in advance.</p><p>F
	or more details: <a href='https://events.la.psu.edu/event/cmlit-luncheon
	_0920/'>https://events.la.psu.edu/event/cmlit-luncheon_0920/</a></p></bo
	dy></html>
URL:https://complit.la.psu.edu/news-events/comp-lit-luncheon-series
LOCATION:102 Kern Building
END:VEVENT
END:VCALENDAR