BEGIN:VCALENDAR
VERSION:2.0
PRODID:-//events.la.psu.edu//EN
CALSCALE:GREGORIAN
BEGIN:VTIMEZONE
TZID:America/New_York
BEGIN:STANDARD
DTSTART:20201101T020000
TZOFFSETFROM:-0400
TZOFFSETTO:-0500
RRULE:FREQ=YEARLY;BYMONTH=11;BYDAY=1SU
END:STANDARD
BEGIN:DAYLIGHT
DTSTART:20200308T020000
TZOFFSETFROM:-0500
TZOFFSETTO:-0400
RRULE:FREQ=YEARLY;BYMONTH=3;BYDAY=2SU
END:DAYLIGHT
END:VTIMEZONE
BEGIN:VEVENT
UID:5006-f1c801f9c96c234d270927c3ec1cfa2c@events.la.psu.edu
DTSTAMP:20260421T020418Z
DTSTART;TZID=America/New_York:20210419T121500
DTEND;TZID=America/New_York:20210419T133000
SUMMARY:CMLIT Luncheon
DESCRIPTION:\nChristine Okoth (University of Warwick)\, &quot\;Inexhaust
	ibility and the Aesthetics of Reuse&quot\;\n\nPlease email odb2@psu.edu&
	nbsp\;for Zoom information.\n\nFor more details: https://events.la.psu.e
	du/event/cmlit-luncheon_0419/
X-ALT-DESC;FMTTYPE=text/html:<html><head></head><body><p><a href="https:
	//complit.la.psu.edu/news-events/christine-okoth-university-of-warwick-o
	n-tba">Christine Okoth (University of Warwick), &quot;Inexhaustibility a
	nd the Aesthetics of Reuse&quot;</a></p><p>Please email <a href="mailto:
	odb2@psu.edu">odb2@psu.edu</a>&nbsp;for Zoom information.</p><p>For more
	 details: <a href='https://events.la.psu.edu/event/cmlit-luncheon_0419/'
	>https://events.la.psu.edu/event/cmlit-luncheon_0419/</a></p></body></ht
	ml>
URL:https://complit.la.psu.edu/news-events/comp-lit-luncheon-series
END:VEVENT
END:VCALENDAR