BEGIN:VCALENDAR
VERSION:2.0
PRODID:-//events.la.psu.edu//EN
CALSCALE:GREGORIAN
BEGIN:VTIMEZONE
TZID:America/New_York
BEGIN:STANDARD
DTSTART:20201101T020000
TZOFFSETFROM:-0400
TZOFFSETTO:-0500
RRULE:FREQ=YEARLY;BYMONTH=11;BYDAY=1SU
END:STANDARD
BEGIN:DAYLIGHT
DTSTART:20200308T020000
TZOFFSETFROM:-0500
TZOFFSETTO:-0400
RRULE:FREQ=YEARLY;BYMONTH=3;BYDAY=2SU
END:DAYLIGHT
END:VTIMEZONE
BEGIN:VEVENT
UID:3596-993753e855989d3de55adeb2528d0df4@events.la.psu.edu
DTSTAMP:20260425T134310Z
DTSTART;TZID=America/New_York:20230220T121500
DTEND;TZID=America/New_York:20230220T133000
SUMMARY:Comparative Literature Luncheon:  Nergis Ertürk
DESCRIPTION:\nNergis Ert&uuml\;rk (Penn State)\, will present &ldquo\;Tr
	anslating Socialist Realism: Revolutionary Aesthetics and Politics Acros
	s Turkey and the Soviet Union.&rdquo\;\n\nFor more details: https://even
	ts.la.psu.edu/event/cmlit-luncheon_022023/
X-ALT-DESC;FMTTYPE=text/html:<html><head></head><body><p>Nergis Ert&uuml
	;rk (Penn State), will present &ldquo;Translating Socialist Realism: Rev
	olutionary Aesthetics and Politics Across Turkey and the Soviet Union.&r
	dquo;</p><p>For more details: <a href='https://events.la.psu.edu/event/c
	mlit-luncheon_022023/'>https://events.la.psu.edu/event/cmlit-luncheon_02
	2023/</a></p></body></html>
LOCATION:102 Kern Building
END:VEVENT
END:VCALENDAR