BEGIN:VCALENDAR
VERSION:2.0
PRODID:-//events.la.psu.edu//EN
CALSCALE:GREGORIAN
BEGIN:VTIMEZONE
TZID:America/New_York
BEGIN:STANDARD
DTSTART:20201101T020000
TZOFFSETFROM:-0400
TZOFFSETTO:-0500
RRULE:FREQ=YEARLY;BYMONTH=11;BYDAY=1SU
END:STANDARD
BEGIN:DAYLIGHT
DTSTART:20200308T020000
TZOFFSETFROM:-0500
TZOFFSETTO:-0400
RRULE:FREQ=YEARLY;BYMONTH=3;BYDAY=2SU
END:DAYLIGHT
END:VTIMEZONE
BEGIN:VEVENT
UID:3292-63813fb5c1efaef77327d2a2fab6c18c@events.la.psu.edu
DTSTAMP:20260419T191739Z
DTSTART;TZID=America/New_York:20230422T090000
DTEND;TZID=America/New_York:20230422T120000
SUMMARY:Clearwater Watershed Cleanup
DESCRIPTION:\nVolunteer for four&nbsp\;hours on Earth Day to make&nbsp\;
	a long-lasting difference in your community!​\n\n​Since 1997\, volunteer
	s have prevented more than six million pounds of trash&nbsp\;from enteri
	ng our local waterways! Thank you for keeping Central Pennsylvania clean
	 and beautiful!\n\nThis year&rsquo\;s event will take place on Saturday\
	, April 22 from 9:00 a.m.&ndash\;noon. Please email Janet Swim with any 
	questions.\n\nFor more details: https://events.la.psu.edu/event/clearwat
	er-watershed-cleanup/
X-ALT-DESC;FMTTYPE=text/html:<html><head></head><body><p>Volunteer for f
	our&nbsp;hours on Earth Day to make&nbsp;a long-lasting difference in yo
	ur community!​</p><p>​Since 1997, volunteers have prevented more than si
	x million pounds of trash&nbsp;from entering our local waterways! Thank 
	you for keeping Central Pennsylvania clean and beautiful!</p><p>This yea
	r&rsquo;s event will take place on Saturday, April 22 from 9:00 a.m.&nda
	sh;noon. Please <a href="mailto:jks4@psu.edu?subject=Clearwater%20Waters
	hed%20Cleanup">email Janet Swim</a> with any questions.</p><p>For more d
	etails: <a href='https://events.la.psu.edu/event/clearwater-watershed-cl
	eanup/'>https://events.la.psu.edu/event/clearwater-watershed-cleanup/</a
	></p></body></html>
LOCATION:TBA
END:VEVENT
END:VCALENDAR