BEGIN:VCALENDAR
VERSION:2.0
PRODID:-//events.la.psu.edu//EN
CALSCALE:GREGORIAN
BEGIN:VTIMEZONE
TZID:America/New_York
BEGIN:STANDARD
DTSTART:20201101T020000
TZOFFSETFROM:-0400
TZOFFSETTO:-0500
RRULE:FREQ=YEARLY;BYMONTH=11;BYDAY=1SU
END:STANDARD
BEGIN:DAYLIGHT
DTSTART:20200308T020000
TZOFFSETFROM:-0500
TZOFFSETTO:-0400
RRULE:FREQ=YEARLY;BYMONTH=3;BYDAY=2SU
END:DAYLIGHT
END:VTIMEZONE
BEGIN:VEVENT
UID:2875-61677430723f940d5b000258f73df8d7@events.la.psu.edu
DTSTAMP:20260422T230436Z
DTSTART;TZID=America/New_York:20231107T180000
DTEND;TZID=America/New_York:20231107T200000
SUMMARY:Liberal Arts First-Generation Celebration
DESCRIPTION:Join the Liberal Arts First-Generation Celebration by partic
	ipating in these events!&nbsp\;\n\nSip (Cider)&nbsp\;and Paint\n\nTuesda
	y\, November 7 | 6:00&ndash\;8:00 p.m. | Chaiken Center for Student Succ
	ess\, 139 Sparks Building\n\nStop by the Chaiken Center to meet other fi
	rst-generation Liberal Arts students and paint a portrait of why you are
	 proud to be a first-gen student. Plus\, enjoy refreshments!&nbsp\;\n\nN
	ational First-Generation Day\n\nWednesday\, November 8&nbsp\;Events spon
	sored by the University&rsquo\;s Student Success Center and First-Gen Ad
	vocates\n\nHUB Party | 11:00 a.m.&ndash\;3:00 p.m. | Lower-Level Stage A
	rea in the HUB-Robeson Center\n\nFirst Gen Community Night | 6:00&ndash\
	;8:00 p.m. | Lion&rsquo\;s Lair\, 008 HUB-Robeson Center\n\nShare Your F
	irst-Generation Student Stories\n\nTuesday\, November 7&ndash\;Thursday\
	, November 9 | Chaiken Center for Student Success\, 139 Sparks Building\
	n\nLiberal Arts students\, faculty\, and staff: stop into the Chaiken Ce
	nter to share your first-gen story.\n\nCan&#39\;t make it in person? Sha
	re your story here!\n\nLearn more about resources and support available 
	for Liberal Arts first-generation students.\n\nFor more details: https:/
	/events.la.psu.edu/event/cla_first-gen-celebration/
X-ALT-DESC;FMTTYPE=text/html:<html><head></head><body><p class="x_x_para
	graph x_elementToProof">Join the Liberal Arts First-Generation Celebrati
	on by participating in these events!&nbsp;</p><p><u><b>Sip (Cider)&nbsp;
	and Paint</b></u></p><p><b>Tuesday, November 7 | 6:00&ndash;8:00 p.m. | 
	Chaiken Center for Student Success, 139 Sparks Building</b></p><p>Stop b
	y the Chaiken Center to meet other first-generation Liberal Arts student
	s and paint a portrait of why you are proud to be a first-gen student. P
	lus, enjoy refreshments!&nbsp;</p><p class="x_x_paragraph x_elementToPro
	of"><b><u>National First-Generation Day</u></b></p><p class="x_x_paragra
	ph x_elementToProof"><b>Wednesday, November 8&nbsp;<a href="https://succ
	ess.psu.edu/first-generation-college-celebration">Events sponsored by th
	e University&rsquo;s Student Success Center and First-Gen Advocates</a><
	/b></p><p>HUB Party | 11:00 a.m.&ndash;3:00 p.m. | Lower-Level Stage Are
	a in the HUB-Robeson Center</p><p>First Gen Community Night | 6:00&ndash
	;8:00 p.m. | Lion&rsquo;s Lair, 008 HUB-Robeson Center</p><p class="x_x_
	paragraph x_elementToProof"><b><u>Share Your First-Generation Student St
	ories</u></b></p><p class="x_x_paragraph x_elementToProof"><b>Tuesday, N
	ovember 7&ndash;Thursday, November 9 | Chaiken Center for Student Succes
	s, 139 Sparks Building</b></p><p class="x_x_paragraph x_elementToProof">
	Liberal Arts students, faculty, and staff: stop into the Chaiken Center 
	to share your first-gen story.</p><p class="x_x_paragraph x_elementToPro
	of">Can&#39;t make it in person? <a href="https://bit.ly/firstgen23CLA">
	Share your story here</a>!</p><p class="desc_normal"><b><a href="https:/
	/la.psu.edu/first-gen">Learn more about resources and support available 
	for Liberal Arts first-generation students</a>.</b></p><p>For more detai
	ls: <a href='https://events.la.psu.edu/event/cla_first-gen-celebration/'
	>https://events.la.psu.edu/event/cla_first-gen-celebration/</a></p></bod
	y></html>
URL:https://la.psu.edu/first-gen
LOCATION:139 Sparks Building, Chaiken Center for Student Success
END:VEVENT
BEGIN:VEVENT
UID:2875-dcd1515074e3940007dec93726cfd8cd@events.la.psu.edu
DTSTAMP:20260422T230436Z
DTSTART;TZID=America/New_York:20231108T110000
DTEND;TZID=America/New_York:20231108T150000
SUMMARY:Liberal Arts First-Generation Celebration
DESCRIPTION:Join the Liberal Arts First-Generation Celebration by partic
	ipating in these events!&nbsp\;\n\nSip (Cider)&nbsp\;and Paint\n\nTuesda
	y\, November 7 | 6:00&ndash\;8:00 p.m. | Chaiken Center for Student Succ
	ess\, 139 Sparks Building\n\nStop by the Chaiken Center to meet other fi
	rst-generation Liberal Arts students and paint a portrait of why you are
	 proud to be a first-gen student. Plus\, enjoy refreshments!&nbsp\;\n\nN
	ational First-Generation Day\n\nWednesday\, November 8&nbsp\;Events spon
	sored by the University&rsquo\;s Student Success Center and First-Gen Ad
	vocates\n\nHUB Party | 11:00 a.m.&ndash\;3:00 p.m. | Lower-Level Stage A
	rea in the HUB-Robeson Center\n\nFirst Gen Community Night | 6:00&ndash\
	;8:00 p.m. | Lion&rsquo\;s Lair\, 008 HUB-Robeson Center\n\nShare Your F
	irst-Generation Student Stories\n\nTuesday\, November 7&ndash\;Thursday\
	, November 9 | Chaiken Center for Student Success\, 139 Sparks Building\
	n\nLiberal Arts students\, faculty\, and staff: stop into the Chaiken Ce
	nter to share your first-gen story.\n\nCan&#39\;t make it in person? Sha
	re your story here!\n\nLearn more about resources and support available 
	for Liberal Arts first-generation students.\n\nFor more details: https:/
	/events.la.psu.edu/event/cla_first-gen-celebration/
X-ALT-DESC;FMTTYPE=text/html:<html><head></head><body><p class="x_x_para
	graph x_elementToProof">Join the Liberal Arts First-Generation Celebrati
	on by participating in these events!&nbsp;</p><p><u><b>Sip (Cider)&nbsp;
	and Paint</b></u></p><p><b>Tuesday, November 7 | 6:00&ndash;8:00 p.m. | 
	Chaiken Center for Student Success, 139 Sparks Building</b></p><p>Stop b
	y the Chaiken Center to meet other first-generation Liberal Arts student
	s and paint a portrait of why you are proud to be a first-gen student. P
	lus, enjoy refreshments!&nbsp;</p><p class="x_x_paragraph x_elementToPro
	of"><b><u>National First-Generation Day</u></b></p><p class="x_x_paragra
	ph x_elementToProof"><b>Wednesday, November 8&nbsp;<a href="https://succ
	ess.psu.edu/first-generation-college-celebration">Events sponsored by th
	e University&rsquo;s Student Success Center and First-Gen Advocates</a><
	/b></p><p>HUB Party | 11:00 a.m.&ndash;3:00 p.m. | Lower-Level Stage Are
	a in the HUB-Robeson Center</p><p>First Gen Community Night | 6:00&ndash
	;8:00 p.m. | Lion&rsquo;s Lair, 008 HUB-Robeson Center</p><p class="x_x_
	paragraph x_elementToProof"><b><u>Share Your First-Generation Student St
	ories</u></b></p><p class="x_x_paragraph x_elementToProof"><b>Tuesday, N
	ovember 7&ndash;Thursday, November 9 | Chaiken Center for Student Succes
	s, 139 Sparks Building</b></p><p class="x_x_paragraph x_elementToProof">
	Liberal Arts students, faculty, and staff: stop into the Chaiken Center 
	to share your first-gen story.</p><p class="x_x_paragraph x_elementToPro
	of">Can&#39;t make it in person? <a href="https://bit.ly/firstgen23CLA">
	Share your story here</a>!</p><p class="desc_normal"><b><a href="https:/
	/la.psu.edu/first-gen">Learn more about resources and support available 
	for Liberal Arts first-generation students</a>.</b></p><p>For more detai
	ls: <a href='https://events.la.psu.edu/event/cla_first-gen-celebration/'
	>https://events.la.psu.edu/event/cla_first-gen-celebration/</a></p></bod
	y></html>
URL:https://la.psu.edu/first-gen
LOCATION:139 Sparks Building, Chaiken Center for Student Success
END:VEVENT
BEGIN:VEVENT
UID:2875-16b3d01d549c3aa3e6935d1dd3fdc83a@events.la.psu.edu
DTSTAMP:20260422T230436Z
DTSTART;TZID=America/New_York:20231108T180000
DTEND;TZID=America/New_York:20231108T200000
SUMMARY:Liberal Arts First-Generation Celebration
DESCRIPTION:Join the Liberal Arts First-Generation Celebration by partic
	ipating in these events!&nbsp\;\n\nSip (Cider)&nbsp\;and Paint\n\nTuesda
	y\, November 7 | 6:00&ndash\;8:00 p.m. | Chaiken Center for Student Succ
	ess\, 139 Sparks Building\n\nStop by the Chaiken Center to meet other fi
	rst-generation Liberal Arts students and paint a portrait of why you are
	 proud to be a first-gen student. Plus\, enjoy refreshments!&nbsp\;\n\nN
	ational First-Generation Day\n\nWednesday\, November 8&nbsp\;Events spon
	sored by the University&rsquo\;s Student Success Center and First-Gen Ad
	vocates\n\nHUB Party | 11:00 a.m.&ndash\;3:00 p.m. | Lower-Level Stage A
	rea in the HUB-Robeson Center\n\nFirst Gen Community Night | 6:00&ndash\
	;8:00 p.m. | Lion&rsquo\;s Lair\, 008 HUB-Robeson Center\n\nShare Your F
	irst-Generation Student Stories\n\nTuesday\, November 7&ndash\;Thursday\
	, November 9 | Chaiken Center for Student Success\, 139 Sparks Building\
	n\nLiberal Arts students\, faculty\, and staff: stop into the Chaiken Ce
	nter to share your first-gen story.\n\nCan&#39\;t make it in person? Sha
	re your story here!\n\nLearn more about resources and support available 
	for Liberal Arts first-generation students.\n\nFor more details: https:/
	/events.la.psu.edu/event/cla_first-gen-celebration/
X-ALT-DESC;FMTTYPE=text/html:<html><head></head><body><p class="x_x_para
	graph x_elementToProof">Join the Liberal Arts First-Generation Celebrati
	on by participating in these events!&nbsp;</p><p><u><b>Sip (Cider)&nbsp;
	and Paint</b></u></p><p><b>Tuesday, November 7 | 6:00&ndash;8:00 p.m. | 
	Chaiken Center for Student Success, 139 Sparks Building</b></p><p>Stop b
	y the Chaiken Center to meet other first-generation Liberal Arts student
	s and paint a portrait of why you are proud to be a first-gen student. P
	lus, enjoy refreshments!&nbsp;</p><p class="x_x_paragraph x_elementToPro
	of"><b><u>National First-Generation Day</u></b></p><p class="x_x_paragra
	ph x_elementToProof"><b>Wednesday, November 8&nbsp;<a href="https://succ
	ess.psu.edu/first-generation-college-celebration">Events sponsored by th
	e University&rsquo;s Student Success Center and First-Gen Advocates</a><
	/b></p><p>HUB Party | 11:00 a.m.&ndash;3:00 p.m. | Lower-Level Stage Are
	a in the HUB-Robeson Center</p><p>First Gen Community Night | 6:00&ndash
	;8:00 p.m. | Lion&rsquo;s Lair, 008 HUB-Robeson Center</p><p class="x_x_
	paragraph x_elementToProof"><b><u>Share Your First-Generation Student St
	ories</u></b></p><p class="x_x_paragraph x_elementToProof"><b>Tuesday, N
	ovember 7&ndash;Thursday, November 9 | Chaiken Center for Student Succes
	s, 139 Sparks Building</b></p><p class="x_x_paragraph x_elementToProof">
	Liberal Arts students, faculty, and staff: stop into the Chaiken Center 
	to share your first-gen story.</p><p class="x_x_paragraph x_elementToPro
	of">Can&#39;t make it in person? <a href="https://bit.ly/firstgen23CLA">
	Share your story here</a>!</p><p class="desc_normal"><b><a href="https:/
	/la.psu.edu/first-gen">Learn more about resources and support available 
	for Liberal Arts first-generation students</a>.</b></p><p>For more detai
	ls: <a href='https://events.la.psu.edu/event/cla_first-gen-celebration/'
	>https://events.la.psu.edu/event/cla_first-gen-celebration/</a></p></bod
	y></html>
URL:https://la.psu.edu/first-gen
LOCATION:139 Sparks Building, Chaiken Center for Student Success
END:VEVENT
END:VCALENDAR