BEGIN:VCALENDAR
VERSION:2.0
PRODID:-//events.la.psu.edu//EN
CALSCALE:GREGORIAN
BEGIN:VTIMEZONE
TZID:America/New_York
BEGIN:STANDARD
DTSTART:20201101T020000
TZOFFSETFROM:-0400
TZOFFSETTO:-0500
RRULE:FREQ=YEARLY;BYMONTH=11;BYDAY=1SU
END:STANDARD
BEGIN:DAYLIGHT
DTSTART:20200308T020000
TZOFFSETFROM:-0500
TZOFFSETTO:-0400
RRULE:FREQ=YEARLY;BYMONTH=3;BYDAY=2SU
END:DAYLIGHT
END:VTIMEZONE
BEGIN:VEVENT
UID:5548-d408f63fa7df451a729bec68ce18476f@events.la.psu.edu
DTSTAMP:20260421T033712Z
DTSTART;TZID=America/New_York:20200917T163000
DTEND;TZID=America/New_York:20200917T163000
SUMMARY:CineClube Virtual Presents, \"Cidade de Deus\"
DESCRIPTION:\nFala portugu&ecirc\;s? Gosta dos filmes brasilerios? Join 
	us for a virtual film club this fall! All films available through stream
	ing services. Contact Krista Brune (kub290@psu.edu) for more information
	.\n\nContact Krista Brune (kub290@psu.edu)\n\nFor more details: https://
	events.la.psu.edu/event/cineclube_virtual_presents_cidade_de_deus/
X-ALT-DESC;FMTTYPE=text/html:<html><head></head><body><p>Fala portugu&ec
	irc;s? Gosta dos filmes brasilerios? Join us for a virtual film club thi
	s fall! All films available through streaming services. Contact Krista B
	rune (<a href="mailto:kub290@psu.edu">kub290@psu.edu</a>) for more infor
	mation.</p><p>Contact Krista Brune (kub290@psu.edu)</p><p>For more detai
	ls: <a href='https://events.la.psu.edu/event/cineclube_virtual_presents_
	cidade_de_deus/'>https://events.la.psu.edu/event/cineclube_virtual_prese
	nts_cidade_de_deus/</a></p></body></html>
END:VEVENT
END:VCALENDAR