BEGIN:VCALENDAR
VERSION:2.0
PRODID:-//events.la.psu.edu//EN
CALSCALE:GREGORIAN
BEGIN:VTIMEZONE
TZID:America/New_York
BEGIN:STANDARD
DTSTART:20201101T020000
TZOFFSETFROM:-0400
TZOFFSETTO:-0500
RRULE:FREQ=YEARLY;BYMONTH=11;BYDAY=1SU
END:STANDARD
BEGIN:DAYLIGHT
DTSTART:20200308T020000
TZOFFSETFROM:-0500
TZOFFSETTO:-0400
RRULE:FREQ=YEARLY;BYMONTH=3;BYDAY=2SU
END:DAYLIGHT
END:VTIMEZONE
BEGIN:VEVENT
UID:4466-5b6300e5544c4926d1d01ae8c226cbe0@events.la.psu.edu
DTSTAMP:20260421T034746Z
DTSTART;TZID=America/New_York:20220323T130000
DTEND;TZID=America/New_York:20220323T130000
SUMMARY:(Co)Figurations of Future: VR \"Screening\" at the Dreamery
DESCRIPTION:\nSeperate showings starting at 1:00 p.m. and 2:00 p.m.\n\nV
	irtual reality/360-degree video screenings of&nbsp\;Notes on Blindness&n
	bsp\;and&nbsp\;Traveling While Black&nbsp\;at the Dreamery.\n\nFor more 
	details: https://events.la.psu.edu/event/cff_the-dreamery/
X-ALT-DESC;FMTTYPE=text/html:<html><head></head><body><p>Seperate showin
	gs starting at 1:00 p.m. and 2:00 p.m.</p><p>Virtual reality/360-degree 
	video screenings of&nbsp;<i>Notes on Blindness</i>&nbsp;and&nbsp;<i>Trav
	eling While Black</i>&nbsp;at the Dreamery.</p><p>For more details: <a h
	ref='https://events.la.psu.edu/event/cff_the-dreamery/'>https://events.l
	a.psu.edu/event/cff_the-dreamery/</a></p></body></html>
URL:https://sites.psu.edu/liberalartscollective/cofigurations/cofigurations-
	of-future/
LOCATION:The Dreamery, Shields Building
END:VEVENT
BEGIN:VEVENT
UID:4466-a6138fa1d6ef4cab514de7ffda50d7a2@events.la.psu.edu
DTSTAMP:20260421T034746Z
DTSTART;TZID=America/New_York:20220323T140000
DTEND;TZID=America/New_York:20220323T140000
SUMMARY:(Co)Figurations of Future: VR \"Screening\" at the Dreamery
DESCRIPTION:\nSeperate showings starting at 1:00 p.m. and 2:00 p.m.\n\nV
	irtual reality/360-degree video screenings of&nbsp\;Notes on Blindness&n
	bsp\;and&nbsp\;Traveling While Black&nbsp\;at the Dreamery.\n\nFor more 
	details: https://events.la.psu.edu/event/cff_the-dreamery/
X-ALT-DESC;FMTTYPE=text/html:<html><head></head><body><p>Seperate showin
	gs starting at 1:00 p.m. and 2:00 p.m.</p><p>Virtual reality/360-degree 
	video screenings of&nbsp;<i>Notes on Blindness</i>&nbsp;and&nbsp;<i>Trav
	eling While Black</i>&nbsp;at the Dreamery.</p><p>For more details: <a h
	ref='https://events.la.psu.edu/event/cff_the-dreamery/'>https://events.l
	a.psu.edu/event/cff_the-dreamery/</a></p></body></html>
URL:https://sites.psu.edu/liberalartscollective/cofigurations/cofigurations-
	of-future/
LOCATION:The Dreamery, Shields Building
END:VEVENT
END:VCALENDAR