BEGIN:VCALENDAR
VERSION:2.0
PRODID:-//events.la.psu.edu//EN
CALSCALE:GREGORIAN
BEGIN:VTIMEZONE
TZID:America/New_York
BEGIN:STANDARD
DTSTART:20201101T020000
TZOFFSETFROM:-0400
TZOFFSETTO:-0500
RRULE:FREQ=YEARLY;BYMONTH=11;BYDAY=1SU
END:STANDARD
BEGIN:DAYLIGHT
DTSTART:20200308T020000
TZOFFSETFROM:-0500
TZOFFSETTO:-0400
RRULE:FREQ=YEARLY;BYMONTH=3;BYDAY=2SU
END:DAYLIGHT
END:VTIMEZONE
BEGIN:VEVENT
UID:2930-299a3b14131de70a1ae5ec909b60b3dc@events.la.psu.edu
DTSTAMP:20260421T062018Z
DTSTART;TZID=America/New_York:20231030T170000
DTEND;TZID=America/New_York:20231030T190000
SUMMARY:Tricks, Treats, and Tips
DESCRIPTION:\nStop into the Chaiken Center for Student Success for some 
	Halloween fun and pizza! Enjoy Kahoot games\, scavenger hunts\, and a wa
	tch party of Disney Halloween episodes. There will also be bags of candy
	 for everyone filled with tips for a successful semester!\n\nFor more de
	tails: https://events.la.psu.edu/event/cc_tricks-treats-tips/
X-ALT-DESC;FMTTYPE=text/html:<html><head></head><body><p>Stop into the C
	haiken Center for Student Success for some Halloween fun and pizza! Enjo
	y Kahoot games, scavenger hunts, and a watch party of Disney Halloween e
	pisodes. There will also be bags of candy for everyone filled with tips 
	for a successful semester!</p><p>For more details: <a href='https://even
	ts.la.psu.edu/event/cc_tricks-treats-tips/'>https://events.la.psu.edu/ev
	ent/cc_tricks-treats-tips/</a></p></body></html>
URL:https://la.psu.edu/chaiken-center
LOCATION:139 Sparks Building, Chaiken Center for Student Success
END:VEVENT
END:VCALENDAR