BEGIN:VCALENDAR
VERSION:2.0
PRODID:-//events.la.psu.edu//EN
CALSCALE:GREGORIAN
BEGIN:VTIMEZONE
TZID:America/New_York
BEGIN:STANDARD
DTSTART:20201101T020000
TZOFFSETFROM:-0400
TZOFFSETTO:-0500
RRULE:FREQ=YEARLY;BYMONTH=11;BYDAY=1SU
END:STANDARD
BEGIN:DAYLIGHT
DTSTART:20200308T020000
TZOFFSETFROM:-0500
TZOFFSETTO:-0400
RRULE:FREQ=YEARLY;BYMONTH=3;BYDAY=2SU
END:DAYLIGHT
END:VTIMEZONE
BEGIN:VEVENT
UID:3433-e2e42ca3c48e9827fa5b82a5a9d203b3@events.la.psu.edu
DTSTAMP:20260419T174448Z
DTSTART;TZID=America/New_York:20230329T110000
DTEND;TZID=America/New_York:20230329T120000
SUMMARY:Wayfinding Wednesday: Watch Party for First-Generation Students
DESCRIPTION:\nJoin us for a watch party of the 2023 First-Gen Student Su
	pport Summit. We will be viewing this event from 11:00 a.m.&ndash\;noon 
	and 3:00&ndash\;4:00 p.m.\, to learn more about the services and program
	s available for first-generation Liberal Arts students at Penn State.\n\
	nFor more details: https://events.la.psu.edu/event/cc-ww_032923/
X-ALT-DESC;FMTTYPE=text/html:<html><head></head><body><p>Join us for a w
	atch party of the <a href="https://success.psu.edu/first-gen-student-sup
	port-summit">2023 First-Gen Student Support Summit</a>. We will be viewi
	ng this event from 11:00 a.m.&ndash;noon and 3:00&ndash;4:00 p.m., to le
	arn more about the services and programs available for first-generation 
	Liberal Arts students at Penn State.</p><p>For more details: <a href='ht
	tps://events.la.psu.edu/event/cc-ww_032923/'>https://events.la.psu.edu/e
	vent/cc-ww_032923/</a></p></body></html>
LOCATION:Chaiken Center for Student Success, 139 Sparks Building
END:VEVENT
BEGIN:VEVENT
UID:3433-a9b53c3fefd4eb1326346b738f454619@events.la.psu.edu
DTSTAMP:20260419T174448Z
DTSTART;TZID=America/New_York:20230329T150000
DTEND;TZID=America/New_York:20230329T160000
SUMMARY:Wayfinding Wednesday: Watch Party for First-Generation Students
DESCRIPTION:\nJoin us for a watch party of the 2023 First-Gen Student Su
	pport Summit. We will be viewing this event from 11:00 a.m.&ndash\;noon 
	and 3:00&ndash\;4:00 p.m.\, to learn more about the services and program
	s available for first-generation Liberal Arts students at Penn State.\n\
	nFor more details: https://events.la.psu.edu/event/cc-ww_032923/
X-ALT-DESC;FMTTYPE=text/html:<html><head></head><body><p>Join us for a w
	atch party of the <a href="https://success.psu.edu/first-gen-student-sup
	port-summit">2023 First-Gen Student Support Summit</a>. We will be viewi
	ng this event from 11:00 a.m.&ndash;noon and 3:00&ndash;4:00 p.m., to le
	arn more about the services and programs available for first-generation 
	Liberal Arts students at Penn State.</p><p>For more details: <a href='ht
	tps://events.la.psu.edu/event/cc-ww_032923/'>https://events.la.psu.edu/e
	vent/cc-ww_032923/</a></p></body></html>
LOCATION:Chaiken Center for Student Success, 139 Sparks Building
END:VEVENT
END:VCALENDAR