BEGIN:VCALENDAR
VERSION:2.0
PRODID:-//events.la.psu.edu//EN
CALSCALE:GREGORIAN
BEGIN:VTIMEZONE
TZID:America/New_York
BEGIN:STANDARD
DTSTART:20201101T020000
TZOFFSETFROM:-0400
TZOFFSETTO:-0500
RRULE:FREQ=YEARLY;BYMONTH=11;BYDAY=1SU
END:STANDARD
BEGIN:DAYLIGHT
DTSTART:20200308T020000
TZOFFSETFROM:-0500
TZOFFSETTO:-0400
RRULE:FREQ=YEARLY;BYMONTH=3;BYDAY=2SU
END:DAYLIGHT
END:VTIMEZONE
BEGIN:VEVENT
UID:4404-2c864eaf74c8ad8135d0bc80557ac754@events.la.psu.edu
DTSTAMP:20260421T144626Z
DTSTART;TZID=America/New_York:20220211T120000
DTEND;TZID=America/New_York:20220211T140000
SUMMARY:Find Out More Fridays: What scholarships or funding are available?
DESCRIPTION:\nDrop by the Chaiken Center for Student Success&nbsp\;to ch
	at&nbsp\;with a student support&nbsp\;staff member and learn&nbsp\;about
	 a resource or opportunity that could help you achieve&nbsp\;your academ
	ic\, personal\, or professional goals.\n\nStaci Kelly\, student awards c
	oordinator in the College of the Liberal Arts\, will&nbsp\;answer the&nb
	sp\;question: &quot\;What scholarships or funding are&nbsp\;available?&q
	uot\;\n\nWayfinding Wednesdays and Find Out More Fridays will take place
	 through the end of April. See the full schedule at la.psu.edu/chaiken-c
	enter.\n\n&nbsp\;\n\nFor more details: https://events.la.psu.edu/event/c
	c-fomf_0211/
X-ALT-DESC;FMTTYPE=text/html:<html><head></head><body><p>Drop by the Cha
	iken Center for Student Success&nbsp;to chat&nbsp;with a student support
	&nbsp;staff member and learn&nbsp;about a resource or opportunity that c
	ould help you achieve&nbsp;your academic, personal, or professional goal
	s.</p><p>Staci Kelly, student awards coordinator in the College of the L
	iberal Arts, will&nbsp;answer the&nbsp;question: &quot;What scholarships
	 or funding are&nbsp;available?&quot;</p><p>Wayfinding Wednesdays and Fi
	nd Out More Fridays will take place through the end of April. See the fu
	ll schedule at <a href="http://la.psu.edu/chaikencenter">la.psu.edu/chai
	ken-center</a>.</p><p>&nbsp;</p><p>For more details: <a href='https://ev
	ents.la.psu.edu/event/cc-fomf_0211/'>https://events.la.psu.edu/event/cc-
	fomf_0211/</a></p></body></html>
URL:http://la.psu.edu/chaikencenter
LOCATION:101 Burrowes Building
END:VEVENT
BEGIN:VEVENT
UID:4404-fcee151d011222f421b472c9bd2f7850@events.la.psu.edu
DTSTAMP:20260421T144626Z
DTSTART;TZID=America/New_York:20220408T120000
DTEND;TZID=America/New_York:20220408T140000
SUMMARY:Find Out More Fridays: What scholarships or funding are available?
DESCRIPTION:\nDrop by the Chaiken Center for Student Success&nbsp\;to ch
	at&nbsp\;with a student support&nbsp\;staff member and learn&nbsp\;about
	 a resource or opportunity that could help you achieve&nbsp\;your academ
	ic\, personal\, or professional goals.\n\nStaci Kelly\, student awards c
	oordinator in the College of the Liberal Arts\, will&nbsp\;answer the&nb
	sp\;question: &quot\;What scholarships or funding are&nbsp\;available?&q
	uot\;\n\nWayfinding Wednesdays and Find Out More Fridays will take place
	 through the end of April. See the full schedule at la.psu.edu/chaiken-c
	enter.\n\n&nbsp\;\n\nFor more details: https://events.la.psu.edu/event/c
	c-fomf_0211/
X-ALT-DESC;FMTTYPE=text/html:<html><head></head><body><p>Drop by the Cha
	iken Center for Student Success&nbsp;to chat&nbsp;with a student support
	&nbsp;staff member and learn&nbsp;about a resource or opportunity that c
	ould help you achieve&nbsp;your academic, personal, or professional goal
	s.</p><p>Staci Kelly, student awards coordinator in the College of the L
	iberal Arts, will&nbsp;answer the&nbsp;question: &quot;What scholarships
	 or funding are&nbsp;available?&quot;</p><p>Wayfinding Wednesdays and Fi
	nd Out More Fridays will take place through the end of April. See the fu
	ll schedule at <a href="http://la.psu.edu/chaikencenter">la.psu.edu/chai
	ken-center</a>.</p><p>&nbsp;</p><p>For more details: <a href='https://ev
	ents.la.psu.edu/event/cc-fomf_0211/'>https://events.la.psu.edu/event/cc-
	fomf_0211/</a></p></body></html>
URL:http://la.psu.edu/chaikencenter
LOCATION:101 Burrowes Building
END:VEVENT
END:VCALENDAR