BEGIN:VCALENDAR
VERSION:2.0
PRODID:-//events.la.psu.edu//EN
CALSCALE:GREGORIAN
BEGIN:VTIMEZONE
TZID:America/New_York
BEGIN:STANDARD
DTSTART:20201101T020000
TZOFFSETFROM:-0400
TZOFFSETTO:-0500
RRULE:FREQ=YEARLY;BYMONTH=11;BYDAY=1SU
END:STANDARD
BEGIN:DAYLIGHT
DTSTART:20200308T020000
TZOFFSETFROM:-0500
TZOFFSETTO:-0400
RRULE:FREQ=YEARLY;BYMONTH=3;BYDAY=2SU
END:DAYLIGHT
END:VTIMEZONE
BEGIN:VEVENT
UID:3655-f2be79e6cd6e04eaa82eddfc11c57718@events.la.psu.edu
DTSTAMP:20260423T212259Z
DTSTART;TZID=America/New_York:20230203T100000
DTEND;TZID=America/New_York:20230203T120000
SUMMARY:Find Out More Friday: Build Your Personal Success Team
DESCRIPTION:\nLearn how to put together your own personal success team f
	or academic success at Penn State and beyond. Join Patty Klug\, director
	 of the Chaiken Center\, for a personal approach to achieving your succe
	ss. Stop by\, grab a snack\, and enter our raffle for a Liberal Arts onl
	ine apparel store gift card!\n\nFor more details: https://events.la.psu.
	edu/event/cc-fomf_0203/
X-ALT-DESC;FMTTYPE=text/html:<html><head></head><body><p>Learn how to pu
	t together your own personal success team for academic success at Penn S
	tate and beyond. Join Patty Klug, director of the Chaiken Center, for a 
	personal approach to achieving your success. Stop by, grab a snack, and 
	enter our raffle for a Liberal Arts online apparel store gift card!</p><
	p>For more details: <a href='https://events.la.psu.edu/event/cc-fomf_020
	3/'>https://events.la.psu.edu/event/cc-fomf_0203/</a></p></body></html>
LOCATION:139 Sparks Building, Chaiken Center for Student Success
END:VEVENT
END:VCALENDAR