BEGIN:VCALENDAR
VERSION:2.0
PRODID:-//events.la.psu.edu//EN
CALSCALE:GREGORIAN
BEGIN:VTIMEZONE
TZID:America/New_York
BEGIN:STANDARD
DTSTART:20201101T020000
TZOFFSETFROM:-0400
TZOFFSETTO:-0500
RRULE:FREQ=YEARLY;BYMONTH=11;BYDAY=1SU
END:STANDARD
BEGIN:DAYLIGHT
DTSTART:20200308T020000
TZOFFSETFROM:-0500
TZOFFSETTO:-0400
RRULE:FREQ=YEARLY;BYMONTH=3;BYDAY=2SU
END:DAYLIGHT
END:VTIMEZONE
BEGIN:VEVENT
UID:3681-748736b53549f23ce7692e31eb381558@events.la.psu.edu
DTSTAMP:20260420T074925Z
DTSTART;TZID=America/New_York:20230127T100000
DTEND;TZID=America/New_York:20230127T120000
SUMMARY:Find Out More Friday: Ask a Career Coach 
DESCRIPTION:\nAs part of Liberal Arts Career Week\, career coaches from 
	the Liberal Arts Career Enrichment Network will be in the Chaiken Center
	 to answer your questions about anything career-related. Whether it&rsqu
	o\;s helping you make edits your r&eacute\;sum&eacute\; or cover letter 
	to helping you explore professional interests and goals\, career coaches
	 are here to help! Stop by between 11:00 a.m. and 1:00 p.m. to meet with
	 a career coach\, grab a snack\, and enter our raffle for a Liberal Arts
	 online apparel store gift card!\n\nFor more details: https://events.la.
	psu.edu/event/cc-fomf_0127/
X-ALT-DESC;FMTTYPE=text/html:<html><head></head><body><p>As part of <a h
	ref="http://bit.ly/lacareerweek">Liberal Arts Career Week</a>, career co
	aches from the Liberal Arts Career Enrichment Network will be in the Cha
	iken Center to answer your questions about anything career-related. Whet
	her it&rsquo;s helping you make edits your r&eacute;sum&eacute; or cover
	 letter to helping you explore professional interests and goals, career 
	coaches are here to help! Stop by between 11:00 a.m. and 1:00 p.m. to me
	et with a career coach, grab a snack, and enter our raffle for a Liberal
	 Arts online apparel store gift card!</p><p>For more details: <a href='h
	ttps://events.la.psu.edu/event/cc-fomf_0127/'>https://events.la.psu.edu/
	event/cc-fomf_0127/</a></p></body></html>
LOCATION:139 Sparks Building, Chaiken Center for Student Success
END:VEVENT
END:VCALENDAR