BEGIN:VCALENDAR
VERSION:2.0
PRODID:-//events.la.psu.edu//EN
CALSCALE:GREGORIAN
BEGIN:VTIMEZONE
TZID:America/New_York
BEGIN:STANDARD
DTSTART:20201101T020000
TZOFFSETFROM:-0400
TZOFFSETTO:-0500
RRULE:FREQ=YEARLY;BYMONTH=11;BYDAY=1SU
END:STANDARD
BEGIN:DAYLIGHT
DTSTART:20200308T020000
TZOFFSETFROM:-0500
TZOFFSETTO:-0400
RRULE:FREQ=YEARLY;BYMONTH=3;BYDAY=2SU
END:DAYLIGHT
END:VTIMEZONE
BEGIN:VEVENT
UID:16280-8ffbfc000ea0242642d1b5b4f3063c42@events.la.psu.edu
DTSTAMP:20260425T031821Z
DTSTART;TZID=America/New_York:20251013T163000
DTEND;TZID=America/New_York:20251013T180000
SUMMARY:Career Readiness Summit
DESCRIPTION:\nEver wonder how to turn your Liberal Arts degree into mean
	ingful experiences and career opportunities?\n\nInternships are one of t
	he best ways to apply your Liberal Arts education in real-world settings
	—helping you test career paths\, build skills\, and make an impact beyon
	d the classroom. The 2025 Liberal Arts Career Readiness Summit highlight
	s how internships connect to the eight career-readiness competencies ide
	ntified by the National Association of Colleges and Employers (NACE).\n\
	nExclusively for those in the College of the Liberal Arts\, this summit 
	features alumni\, faculty\, and student perspectives on the value of int
	ernships and how they prepare you to advocate for yourself—and for the p
	ower of a Liberal Arts education.\n\nRSVP\n\nPlease RSVP by Monday\, Oct
	ober 6 at 11:59 p.m. Spaces are limited. You will receive a confirmation
	 of your registration acceptance on Tuesday\, October 7 by 5:00 p.m.\n\n
	Schedule of Events\n\n4:00–4:30 p.m.: Check-In\n4:30–4:45 p.m.: Opening 
	Remarks with Dean Clarence Lang\n4:45–5:15 p.m.: Liberal Arts Career Rea
	diness Internship Panel\n5:15–6:00 p.m.: Guided Speed-Networking Event w
	ith Career Enrichment Network Assistant Director\, Lauren Granese\n6:00–
	6:30 p.m.: Optional Open Networking\n\nHeavy hors d'oeuvres will be prov
	ided by the Nittany Lion Inn.\n\nQuestions? Please reach out to the Care
	er Enrichment Network at lanetwork@psu.edu or 814-865-1070. \n\nFor more
	 details: https://events.la.psu.edu/event/career-readiness-summit-2/
X-ALT-DESC;FMTTYPE=text/html:<html><head></head><body><p><strong>Ever wo
	nder how to turn your Liberal Arts degree into meaningful experiences an
	d career opportunities?</strong></p><p>Internships are one of the best w
	ays to apply your Liberal Arts education in real-world settings—helping 
	you test career paths, build skills, and make an impact beyond the class
	room. The 2025 Liberal Arts Career Readiness Summit highlights how inter
	nships connect to the eight career-readiness competencies identified by 
	the National Association of Colleges and Employers (NACE).</p><p>Exclusi
	vely for those in the College of the Liberal Arts, this summit features 
	alumni, faculty, and student perspectives on the value of internships an
	d how they prepare you to advocate for yourself—and for the power of a L
	iberal Arts education.</p><p><a id="menurd83" class="fui-Link ___1q1shib
	 f2hkw1w f3rmtva f1ewtqcl fyind8e f1k6fduh f1w7gpdv fk6fouc fjoy568 figs
	ok6 f1s184ao f1mk8lai fnbmjn9 f1o700av f13mvf36 f1cmlufx f9n3di6 f1ids18
	y f1tx3yz7 f1deo86v f1eh06m1 f1iescvh fhgqx19 f1olyrje f1p93eir f1nev41a
	 f1h8hb77 f1lqvz6u f10aw75t fsle3fq f17ae5zn" title="https://forms.offic
	e.com/r/qaqy5mwygx" href="https://forms.office.com/r/qaqY5MWyGX" target=
	"_blank" rel="noreferrer noopener" aria-label="Link RSVP"><strong>RSVP</
	strong></a></p><p><i><strong>Please RSVP by Monday, October 6 at 11:59 p
	.m.</strong> Spaces are limited. You will receive a confirmation of your
	 registration acceptance on Tuesday, October 7 by 5:00 p.m.</i></p><p><s
	trong>Schedule of Events</strong></p><ul><li>4:00–4:30 p.m.: Check-In</l
	i><li>4:30–4:45 p.m.: Opening Remarks with Dean Clarence Lang</li><li>4:
	45–5:15 p.m.: Liberal Arts Career Readiness <i>Internship Panel</i></li>
	<li>5:15–6:00 p.m.: Guided Speed-Networking Event with Career Enrichment
	 Network Assistant Director, Lauren Granese</li><li>6:00–6:30 p.m.: Opti
	onal Open Networking</li></ul><p>Heavy hors d'oeuvres will be provided b
	y the Nittany Lion Inn.</p><p><i>Questions? Please reach out to the </i>
	<a id="menurd85" class="fui-Link ___1q1shib f2hkw1w f3rmtva f1ewtqcl fyi
	nd8e f1k6fduh f1w7gpdv fk6fouc fjoy568 figsok6 f1s184ao f1mk8lai fnbmjn9
	 f1o700av f13mvf36 f1cmlufx f9n3di6 f1ids18y f1tx3yz7 f1deo86v f1eh06m1 
	f1iescvh fhgqx19 f1olyrje f1p93eir f1nev41a f1h8hb77 f1lqvz6u f10aw75t f
	sle3fq f17ae5zn" title="https://la.psu.edu/current-students/career-enric
	hment-network/" href="https://la.psu.edu/current-students/career-enrichm
	ent-network/" target="_blank" rel="noreferrer noopener" aria-label="Link
	 Career Enrichment Network"><i>Career Enrichment Network</i></a><i> at l
	anetwork@psu.edu or 814-865-1070. </i></p><p>For more details: <a href='
	https://events.la.psu.edu/event/career-readiness-summit-2/'>https://even
	ts.la.psu.edu/event/career-readiness-summit-2/</a></p></body></html>
LOCATION:Ballrooms, The Nittany Lion Inn
END:VEVENT
END:VCALENDAR