BEGIN:VCALENDAR
VERSION:2.0
PRODID:-//events.la.psu.edu//EN
CALSCALE:GREGORIAN
BEGIN:VTIMEZONE
TZID:America/New_York
BEGIN:STANDARD
DTSTART:20201101T020000
TZOFFSETFROM:-0400
TZOFFSETTO:-0500
RRULE:FREQ=YEARLY;BYMONTH=11;BYDAY=1SU
END:STANDARD
BEGIN:DAYLIGHT
DTSTART:20200308T020000
TZOFFSETFROM:-0500
TZOFFSETTO:-0400
RRULE:FREQ=YEARLY;BYMONTH=3;BYDAY=2SU
END:DAYLIGHT
END:VTIMEZONE
BEGIN:VEVENT
UID:3494-7e48cde57682c8f20d398e0a67dc6fb4@events.la.psu.edu
DTSTAMP:20260425T205046Z
DTSTART;TZID=America/New_York:20230317T160000
DTEND;TZID=America/New_York:20230317T160000
SUMMARY:“The Medinet Madi Library of Manichaean Codices: New Sources for the Glo
	bal History of Religions,” Paul Dilley
DESCRIPTION:\nMichael Beshay\, assistant professor of classics and ancie
	nt Mediterranean studies at Penn State\, and Gonzalo Rubio\,&nbsp\;assoc
	iate professor of classics and ancient Mediterranean studies at Penn Sta
	te\, are hosting guest speaker Paul Dilley\, associate professor of anci
	ent Mediterranean religions at the University of Iowa\, to present&nbsp\
	;&ldquo\;The Medinet Madi Library of Manichaean Codices: New Sources for
	 the Global History of Religions.&rdquo\;\n\nFor more details: https://e
	vents.la.psu.edu/event/cams_paul-dilley/
X-ALT-DESC;FMTTYPE=text/html:<html><head></head><body><p>Michael Beshay,
	 assistant professor of classics and ancient Mediterranean studies at Pe
	nn State, and Gonzalo Rubio,&nbsp;associate professor of classics and an
	cient Mediterranean studies at Penn State, are hosting guest speaker Pau
	l Dilley, associate professor of ancient Mediterranean religions at the 
	University of Iowa, to present&nbsp;&ldquo;The Medinet Madi Library of M
	anichaean Codices: New Sources for the Global History of Religions.&rdqu
	o;</p><p>For more details: <a href='https://events.la.psu.edu/event/cams
	_paul-dilley/'>https://events.la.psu.edu/event/cams_paul-dilley/</a></p>
	</body></html>
LOCATION:121 Borland Building
END:VEVENT
END:VCALENDAR