BEGIN:VCALENDAR
VERSION:2.0
PRODID:-//events.la.psu.edu//EN
CALSCALE:GREGORIAN
BEGIN:VTIMEZONE
TZID:America/New_York
BEGIN:STANDARD
DTSTART:20201101T020000
TZOFFSETFROM:-0400
TZOFFSETTO:-0500
RRULE:FREQ=YEARLY;BYMONTH=11;BYDAY=1SU
END:STANDARD
BEGIN:DAYLIGHT
DTSTART:20200308T020000
TZOFFSETFROM:-0500
TZOFFSETTO:-0400
RRULE:FREQ=YEARLY;BYMONTH=3;BYDAY=2SU
END:DAYLIGHT
END:VTIMEZONE
BEGIN:VEVENT
UID:14589-0a283504aafe943448b91303644d3b36@events.la.psu.edu
DTSTAMP:20260423T003324Z
DTSTART;TZID=America/New_York:20250318T110000
DTEND;TZID=America/New_York:20250318T163000
SUMMARY:CALS Spring Symposium \"Horizons\"
DESCRIPTION:\nThe Center for American Literary Studies presents the 2025
	 CALS Spring Symposium.\n\n&nbsp\;\n\n11:00 a.m. “(Even) In Terrible Day
	s\, For the Love of Reading.”\n\nPresented by Kevin Quashie\, Royce Fami
	ly Professor of Teaching Excellence in English\, Brown University.\n\nMo
	derator: Gabrielle Foreman\, Paterno Family Professor of American Litera
	ture and Professor of African American Studies and History\, Penn State.
	\n\n&nbsp\;\n\n3:00 p.m. “Cross-Cultural Harlem: Theory\, Method and Fie
	ld”\n\nPresented by Sandhya Shukla\, associate professor of English and 
	American studies\, University of Virginia\n\nModerator: Keith Gilyard\, 
	Edwin Erle Sparks Professor of English and African American Studies\, Pe
	nn State.\n\n&nbsp\;\n\nFor more details: https://events.la.psu.edu/even
	t/cals-spring-symposium-horizons/
X-ALT-DESC;FMTTYPE=text/html:<html><head></head><body><p>The Center for 
	American Literary Studies presents the 2025 CALS Spring Symposium.</p><p
	>&nbsp;</p><p>11:00 a.m. “(Even) In Terrible Days, For the Love of Readi
	ng.”</p><p>Presented by Kevin Quashie, Royce Family Professor of Teachin
	g Excellence in English, Brown University.</p><p>Moderator: Gabrielle Fo
	reman, Paterno Family Professor of American Literature and Professor of 
	African American Studies and History, Penn State.</p><p>&nbsp;</p><p>3:0
	0 p.m. “Cross-Cultural Harlem: Theory, Method and Field”</p><p>Presented
	 by Sandhya Shukla, associate professor of English and American studies,
	 University of Virginia</p><p>Moderator: Keith Gilyard, Edwin Erle Spark
	s Professor of English and African American Studies, Penn State.</p><p>&
	nbsp;</p><p>For more details: <a href='https://events.la.psu.edu/event/c
	als-spring-symposium-horizons/'>https://events.la.psu.edu/event/cals-spr
	ing-symposium-horizons/</a></p></body></html>
LOCATION:Foster Auditorium, 102 Paterno Library
END:VEVENT
END:VCALENDAR