BEGIN:VCALENDAR
VERSION:2.0
PRODID:-//events.la.psu.edu//EN
CALSCALE:GREGORIAN
BEGIN:VTIMEZONE
TZID:America/New_York
BEGIN:STANDARD
DTSTART:20201101T020000
TZOFFSETFROM:-0400
TZOFFSETTO:-0500
RRULE:FREQ=YEARLY;BYMONTH=11;BYDAY=1SU
END:STANDARD
BEGIN:DAYLIGHT
DTSTART:20200308T020000
TZOFFSETFROM:-0500
TZOFFSETTO:-0400
RRULE:FREQ=YEARLY;BYMONTH=3;BYDAY=2SU
END:DAYLIGHT
END:VTIMEZONE
BEGIN:VEVENT
UID:18034-37ede2358a16135addcfbe1658715af0@events.la.psu.edu
DTSTAMP:20260424T080410Z
DTSTART;TZID=America/New_York:20260415T160000
DTEND;TZID=America/New_York:20260415T173000
SUMMARY:CALPER Advances in World Language Pedagogy Professional Development Webi
	nar
DESCRIPTION:\nThis is part four of the spring 2026 Advances in World Lan
	guage Pedagogy webinar series. See the abstract and more.\n\nFor more de
	tails: https://events.la.psu.edu/event/calper-stephen-looney/
X-ALT-DESC;FMTTYPE=text/html:<html><head></head><body><p>This is part fo
	ur of the spring 2026 Advances in World Language Pedagogy webinar series
	. <a href="https://calper.la.psu.edu/professional-development/advances-i
	n-world-language-pedagogy/2026-2/">See the abstract and more.</a></p><p>
	For more details: <a href='https://events.la.psu.edu/event/calper-stephe
	n-looney/'>https://events.la.psu.edu/event/calper-stephen-looney/</a></p
	></body></html>
URL:https://calper.la.psu.edu/professional-development/advances-in-world-lan
	guage-pedagogy/2026-2/
END:VEVENT
END:VCALENDAR