BEGIN:VCALENDAR
VERSION:2.0
PRODID:-//events.la.psu.edu//EN
CALSCALE:GREGORIAN
BEGIN:VTIMEZONE
TZID:America/New_York
BEGIN:STANDARD
DTSTART:20201101T020000
TZOFFSETFROM:-0400
TZOFFSETTO:-0500
RRULE:FREQ=YEARLY;BYMONTH=11;BYDAY=1SU
END:STANDARD
BEGIN:DAYLIGHT
DTSTART:20200308T020000
TZOFFSETFROM:-0500
TZOFFSETTO:-0400
RRULE:FREQ=YEARLY;BYMONTH=3;BYDAY=2SU
END:DAYLIGHT
END:VTIMEZONE
BEGIN:VEVENT
UID:15088-5b177d168940948737997a585b342851@events.la.psu.edu
DTSTAMP:20260424T234655Z
DTSTART;TZID=America/New_York:20250401T170000
DTEND;TZID=America/New_York:20250401T183000
SUMMARY:A Conversation about Jewish Identity and Palestinian Human Rights with P
	eter Beinart
DESCRIPTION:\nPlease join us for a conversation with Peter Beinart on hi
	s new book Being Jewish after the Destruction of Gaza: A Reckoning.\n\nA
	 frequent contributor to the New York Times and an MSNBC analyst\, Peter
	 Beinart is a professor of journalism and political science at the Craig
	 Newmark Graduate School of Journalism at CUNY. He is also the editor-at
	-large of Jewish Currents and writes The Beinart Notebook\, a weekly new
	sletter. He lives with his family in New York City.\n\nThis event is co-
	sponsored by the Department of Political Science\, the Center for Global
	 Studies\, and the Jewish Studies program.\n\n&nbsp\;\n\nFor more detail
	s: https://events.la.psu.edu/event/beinart/
X-ALT-DESC;FMTTYPE=text/html:<html><head></head><body><p>Please join us 
	for a conversation with Peter Beinart on his new book <em>Being Jewish a
	fter the Destruction of Gaza: A Reckoning.</em></p><p>A frequent contrib
	utor to the<em> New York Times</em> and an MSNBC analyst, Peter Beinart 
	is a professor of journalism and political science at the Craig Newmark 
	Graduate School of Journalism at CUNY. He is also the editor-at-large of
	 <em>Jewish Currents</em> and writes <em>The Beinart Notebook</em>, a we
	ekly newsletter. He lives with his family in New York City.</p><p>This e
	vent is co-sponsored by the Department of Political Science, the Center 
	for Global Studies, and the Jewish Studies program.</p><p>&nbsp;</p><p>F
	or more details: <a href='https://events.la.psu.edu/event/beinart/'>http
	s://events.la.psu.edu/event/beinart/</a></p></body></html>
LOCATION:114 Welch Building
END:VEVENT
END:VCALENDAR