BEGIN:VCALENDAR
VERSION:2.0
PRODID:-//events.la.psu.edu//EN
CALSCALE:GREGORIAN
BEGIN:VTIMEZONE
TZID:America/New_York
BEGIN:STANDARD
DTSTART:20201101T020000
TZOFFSETFROM:-0400
TZOFFSETTO:-0500
RRULE:FREQ=YEARLY;BYMONTH=11;BYDAY=1SU
END:STANDARD
BEGIN:DAYLIGHT
DTSTART:20200308T020000
TZOFFSETFROM:-0500
TZOFFSETTO:-0400
RRULE:FREQ=YEARLY;BYMONTH=3;BYDAY=2SU
END:DAYLIGHT
END:VTIMEZONE
BEGIN:VEVENT
UID:18885-5a4458e0628fb808b10831da0ae4255a@events.la.psu.edu
DTSTAMP:20260421T010313Z
DTSTART;TZID=America/New_York:20260416T170000
DTEND;TZID=America/New_York:20260416T183000
SUMMARY:“Artificial Intelligence and Moral Status”
DESCRIPTION:\nAs part of the Rock Ethics Institute's Ethical Technologie
	s theme\, we are pleased to have Matthew Liao on the University Park cam
	pus for his talk on Artificial Intelligence and Moral Status.\n\nLiao is
	 director of the Center for Bioethics and the Arthur Zitrin Professor of
	 Bioethics at New York University.\n\nThe author and editor of four book
	s\, Liao provides the academic community with a collection of human righ
	ts essays. In The Right to be Loved\, he explores the philosophical foun
	dations underpinning children's right to be loved and proposes that we r
	econceptualize our policies concerning adoptions so that individuals who
	 are not romantically linked can co-adopt a child together.\n\nFor more 
	details: https://events.la.psu.edu/event/artificial-intelligence-and-mor
	al-status/
X-ALT-DESC;FMTTYPE=text/html:<html><head></head><body><p>As part of the 
	Rock Ethics Institute's Ethical Technologies theme, we are pleased to ha
	ve <a href="https://publichealth.nyu.edu/faculty/s-matthew-liao">Matthew
	 Liao</a> on the University Park campus for his talk on Artificial Intel
	ligence and Moral Status.</p><p>Liao is director of the Center for Bioet
	hics and the Arthur Zitrin Professor of Bioethics at New York University
	.</p><p>The author and editor of four books, Liao provides the academic 
	community with a collection of human rights essays. <em>In The Right to 
	be Loved</em>, he explores the philosophical foundations underpinning ch
	ildren's right to be loved and proposes that we reconceptualize our poli
	cies concerning adoptions so that individuals who are not romantically l
	inked can co-adopt a child together.</p><p>For more details: <a href='ht
	tps://events.la.psu.edu/event/artificial-intelligence-and-moral-status/'
	>https://events.la.psu.edu/event/artificial-intelligence-and-moral-statu
	s/</a></p></body></html>
LOCATION:062 Willard Building
END:VEVENT
END:VCALENDAR