BEGIN:VCALENDAR
VERSION:2.0
PRODID:-//events.la.psu.edu//EN
CALSCALE:GREGORIAN
BEGIN:VTIMEZONE
TZID:America/New_York
BEGIN:STANDARD
DTSTART:20201101T020000
TZOFFSETFROM:-0400
TZOFFSETTO:-0500
RRULE:FREQ=YEARLY;BYMONTH=11;BYDAY=1SU
END:STANDARD
BEGIN:DAYLIGHT
DTSTART:20200308T020000
TZOFFSETFROM:-0500
TZOFFSETTO:-0400
RRULE:FREQ=YEARLY;BYMONTH=3;BYDAY=2SU
END:DAYLIGHT
END:VTIMEZONE
BEGIN:VEVENT
UID:5019-39ed358d677a8726bf9a8ff50db55b4c@events.la.psu.edu
DTSTAMP:20260421T001622Z
DTSTART;TZID=America/New_York:20210415T173000
DTEND;TZID=America/New_York:20210415T190000
SUMMARY:Liberal Arts Alumni Awards Ceremony (Part 2)
DESCRIPTION:\nDean Clarence Lang and the Alumni Society Board will recog
	nize college award recipients for 2020 and 2021.&nbsp\; Honorees will be
	 split into two groups and recognized on either April 13 and 15.\n\nvia 
	invitation only\n\nFor more details: https://events.la.psu.edu/event/alu
	mni-awards-15/
X-ALT-DESC;FMTTYPE=text/html:<html><head></head><body><p>Dean Clarence L
	ang and the Alumni Society Board will recognize college award recipients
	 for 2020 and 2021.&nbsp; Honorees will be split into two groups and rec
	ognized on either April 13 and 15.</p><p>via invitation only</p><p>For m
	ore details: <a href='https://events.la.psu.edu/event/alumni-awards-15/'
	>https://events.la.psu.edu/event/alumni-awards-15/</a></p></body></html>
END:VEVENT
END:VCALENDAR