BEGIN:VCALENDAR
VERSION:2.0
PRODID:-//events.la.psu.edu//EN
CALSCALE:GREGORIAN
BEGIN:VTIMEZONE
TZID:America/New_York
BEGIN:STANDARD
DTSTART:20201101T020000
TZOFFSETFROM:-0400
TZOFFSETTO:-0500
RRULE:FREQ=YEARLY;BYMONTH=11;BYDAY=1SU
END:STANDARD
BEGIN:DAYLIGHT
DTSTART:20200308T020000
TZOFFSETFROM:-0500
TZOFFSETTO:-0400
RRULE:FREQ=YEARLY;BYMONTH=3;BYDAY=2SU
END:DAYLIGHT
END:VTIMEZONE
BEGIN:VEVENT
UID:4756-f0e0af79839bd07cbc0ff1c829e21ffe@events.la.psu.edu
DTSTAMP:20260423T230643Z
DTSTART;TZID=America/New_York:20211110T123000
DTEND;TZID=America/New_York:20211110T140000
SUMMARY:African Studies Seminar Series–Allen Isaacman
DESCRIPTION:\nAllen Isaacman\, Regents Professor of History at the Unive
	rsity of Minnesota\n\n&ldquo\;Mozambique&#39\;s Samora Machel: A Life Cu
	t Short&rdquo\;\n\nFor more details: https://events.la.psu.edu/event/afr
	_allenisaacman/
X-ALT-DESC;FMTTYPE=text/html:<html><head></head><body><p>Allen Isaacman,
	 Regents Professor of History at the University of Minnesota</p><p>&ldqu
	o;Mozambique&#39;s Samora Machel: A Life Cut Short&rdquo;</p><p>For more
	 details: <a href='https://events.la.psu.edu/event/afr_allenisaacman/'>h
	ttps://events.la.psu.edu/event/afr_allenisaacman/</a></p></body></html>
END:VEVENT
END:VCALENDAR