BEGIN:VCALENDAR
VERSION:2.0
PRODID:-//events.la.psu.edu//EN
CALSCALE:GREGORIAN
BEGIN:VTIMEZONE
TZID:America/New_York
BEGIN:STANDARD
DTSTART:20201101T020000
TZOFFSETFROM:-0400
TZOFFSETTO:-0500
RRULE:FREQ=YEARLY;BYMONTH=11;BYDAY=1SU
END:STANDARD
BEGIN:DAYLIGHT
DTSTART:20200308T020000
TZOFFSETFROM:-0500
TZOFFSETTO:-0400
RRULE:FREQ=YEARLY;BYMONTH=3;BYDAY=2SU
END:DAYLIGHT
END:VTIMEZONE
BEGIN:VEVENT
UID:4248-8f2f1a0b69cbb79e5689bcc7837bd00c@events.la.psu.edu
DTSTAMP:20260419T153243Z
DTSTART;TZID=America/New_York:20211120T090000
DTEND;TZID=America/New_York:20211120T103000
SUMMARY:African Studies Global Virtual Forum: Decoloniality and Southern Epistem
	ologies–Molefi Kete Asante
DESCRIPTION:\nMolefi Kete Asante\, Temple University\n\n&ldquo\;Upending
	 the Inhuman: Decoloniality\, Postmodernism\, and Afrocentricity&rdquo\;
	\n\nFor more details: https://events.la.psu.edu/event/afr-gvf_asante/
X-ALT-DESC;FMTTYPE=text/html:<html><head></head><body><p>Molefi Kete Asa
	nte, Temple University</p><p>&ldquo;Upending the Inhuman: Decoloniality,
	 Postmodernism, and Afrocentricity&rdquo;</p><p>For more details: <a hre
	f='https://events.la.psu.edu/event/afr-gvf_asante/'>https://events.la.ps
	u.edu/event/afr-gvf_asante/</a></p></body></html>
END:VEVENT
END:VCALENDAR