BEGIN:VCALENDAR
VERSION:2.0
PRODID:-//events.la.psu.edu//EN
CALSCALE:GREGORIAN
BEGIN:VTIMEZONE
TZID:America/New_York
BEGIN:STANDARD
DTSTART:20201101T020000
TZOFFSETFROM:-0400
TZOFFSETTO:-0500
RRULE:FREQ=YEARLY;BYMONTH=11;BYDAY=1SU
END:STANDARD
BEGIN:DAYLIGHT
DTSTART:20200308T020000
TZOFFSETFROM:-0500
TZOFFSETTO:-0400
RRULE:FREQ=YEARLY;BYMONTH=3;BYDAY=2SU
END:DAYLIGHT
END:VTIMEZONE
BEGIN:VEVENT
UID:4006-d0b6cf5bfd2e1a52261f7a4657d23d3a@events.la.psu.edu
DTSTAMP:20260420T064540Z
DTSTART;TZID=America/New_York:20221007T090000
DTEND;TZID=America/New_York:20221007T090000
SUMMARY:African Studies Global Virtual Forum: Decoloniality and Southern Epistem
	ologies—Sarah Nuttall
DESCRIPTION:\nSarah Nuttall\, University of the Witwatersrand\n\n&ldquo\
	;On Pluviality: Rain as Method&rdquo\;\n\nAfter registering\, you will r
	eceive a confirmation email containing information about joining the mee
	ting.\n\nFor more details: https://events.la.psu.edu/event/afr-gvf_10072
	2/
X-ALT-DESC;FMTTYPE=text/html:<html><head></head><body><p>Sarah Nuttall, 
	University of the Witwatersrand</p><p>&ldquo;On Pluviality: Rain as Meth
	od&rdquo;</p><p>After registering, you will receive a confirmation email
	 containing information about joining the meeting.</p><p>For more detail
	s: <a href='https://events.la.psu.edu/event/afr-gvf_100722/'>https://eve
	nts.la.psu.edu/event/afr-gvf_100722/</a></p></body></html>
END:VEVENT
END:VCALENDAR