BEGIN:VCALENDAR
VERSION:2.0
PRODID:-//events.la.psu.edu//EN
CALSCALE:GREGORIAN
BEGIN:VTIMEZONE
TZID:America/New_York
BEGIN:STANDARD
DTSTART:20201101T020000
TZOFFSETFROM:-0400
TZOFFSETTO:-0500
RRULE:FREQ=YEARLY;BYMONTH=11;BYDAY=1SU
END:STANDARD
BEGIN:DAYLIGHT
DTSTART:20200308T020000
TZOFFSETFROM:-0500
TZOFFSETTO:-0400
RRULE:FREQ=YEARLY;BYMONTH=3;BYDAY=2SU
END:DAYLIGHT
END:VTIMEZONE
BEGIN:VEVENT
UID:15204-d519239ffc7cf077454c11f65faffdee@events.la.psu.edu
DTSTAMP:20260422T174127Z
DTSTART;TZID=America/New_York:20250502T093000
DTEND;TZID=America/New_York:20250502T110000
SUMMARY:Academic Publishing Demystified
DESCRIPTION:\nJoin Penn State University Press executive director David 
	Aycock for a ninety-minute seminar\, on how to get published. In the fir
	st hour\, David will cover high-level strategies for approaching scholar
	ly publishers\, working with university presses\, and navigating publish
	ing contracts and agreements. The final thirty minutes will be an open Q
	&amp\;A and discussion—so bring your questions! Register here!\n\nFor mo
	re details: https://events.la.psu.edu/event/academic-publishing-demystif
	ied/
X-ALT-DESC;FMTTYPE=text/html:<html><head></head><body><p>Join Penn State
	 University Press executive director David Aycock for a ninety-minute se
	minar, on how to get published. In the first hour, David will cover high
	-level strategies for approaching scholarly publishers, working with uni
	versity presses, and navigating publishing contracts and agreements. The
	 final thirty minutes will be an open Q&amp;A and discussion—so bring yo
	ur questions! <a href="https://forms.gle/PJJTGCrfCgwZbnnu5added">Registe
	r here</a>!</p><p>For more details: <a href='https://events.la.psu.edu/e
	vent/academic-publishing-demystified/'>https://events.la.psu.edu/event/a
	cademic-publishing-demystified/</a></p></body></html>
LOCATION:335 Willard Building
END:VEVENT
END:VCALENDAR