BEGIN:VCALENDAR
VERSION:2.0
PRODID:-//events.la.psu.edu//EN
CALSCALE:GREGORIAN
BEGIN:VTIMEZONE
TZID:America/New_York
BEGIN:STANDARD
DTSTART:20201101T020000
TZOFFSETFROM:-0400
TZOFFSETTO:-0500
RRULE:FREQ=YEARLY;BYMONTH=11;BYDAY=1SU
END:STANDARD
BEGIN:DAYLIGHT
DTSTART:20200308T020000
TZOFFSETFROM:-0500
TZOFFSETTO:-0400
RRULE:FREQ=YEARLY;BYMONTH=3;BYDAY=2SU
END:DAYLIGHT
END:VTIMEZONE
BEGIN:VEVENT
UID:2881-10d9f229fee182858b95fa7a18d54602@events.la.psu.edu
DTSTAMP:20260422T014927Z
DTSTART;TZID=America/New_York:20240215T150000
DTEND;TZID=America/New_York:20240215T180000
SUMMARY:2024 Darwin Day Lecture
DESCRIPTION:\nCelebrate Darwin Day with a lecture by Professor Jo Setche
	ll (Durham University\, UK).\n\nSetchell\, a biological and evolutionary
	 anthropologist specializing in non-human primates\, will present &quot\
	;Sexual Selection and the Differences Between the Sexes in Mandrills (Ma
	ndrillus sphinx).&quot\;\n\nA light reception will immediately follow th
	e lecture.\n\nDarwin Day is co-sponsored by the Center for Human Evoluti
	on and Diversity (College of the Liberal Arts) and the Huck Institutes o
	f the Life Sciences.&nbsp\;\n\nFor more details: https://events.la.psu.e
	du/event/2024_darwin_day_lecture/
X-ALT-DESC;FMTTYPE=text/html:<html><head></head><body><p>Celebrate Darwi
	n Day with a lecture by Professor Jo Setchell (Durham University, UK).</
	p><p>Setchell, a biological and evolutionary anthropologist specializing
	 in non-human primates, will present &quot;Sexual Selection and the Diff
	erences Between the Sexes in Mandrills (<i>Mandrillus sphinx</i>).&quot;
	</p><p>A light reception will immediately follow the lecture.</p><p>Darw
	in Day is co-sponsored by the Center for Human Evolution and Diversity (
	College of the Liberal Arts) and the Huck Institutes of the Life Science
	s.&nbsp;</p><p>For more details: <a href='https://events.la.psu.edu/even
	t/2024_darwin_day_lecture/'>https://events.la.psu.edu/event/2024_darwin_
	day_lecture/</a></p></body></html>
URL:https://ched.la.psu.edu/ched-events/
LOCATION:Freeman Auditorium, 117 HUB Robeson Center
END:VEVENT
END:VCALENDAR