BEGIN:VCALENDAR
VERSION:2.0
PRODID:-//events.la.psu.edu//EN
CALSCALE:GREGORIAN
BEGIN:VTIMEZONE
TZID:America/New_York
BEGIN:STANDARD
DTSTART:20201101T020000
TZOFFSETFROM:-0400
TZOFFSETTO:-0500
RRULE:FREQ=YEARLY;BYMONTH=11;BYDAY=1SU
END:STANDARD
BEGIN:DAYLIGHT
DTSTART:20200308T020000
TZOFFSETFROM:-0500
TZOFFSETTO:-0400
RRULE:FREQ=YEARLY;BYMONTH=3;BYDAY=2SU
END:DAYLIGHT
END:VTIMEZONE
BEGIN:VEVENT
UID:5968-ddd02251f1a6483d6927e97b10e46dc9@events.la.psu.edu
DTSTAMP:20260423T230527Z
DTSTART;TZID=America/New_York:20191204T123000
DTEND;TZID=America/New_York:20191204T140000
SUMMARY:1619: A Commemoration
DESCRIPTION:\nJoin the African American Studies Department and the Paul 
	Robeson Cultural Center for a special event commemorating the 400th anni
	versary of slavery in British North America.\n\nFor more details: https:
	//events.la.psu.edu/event/1619_a_commemoration/
X-ALT-DESC;FMTTYPE=text/html:<html><head></head><body><p>Join the Africa
	n American Studies Department and the Paul Robeson Cultural Center for a
	 special event commemorating the 400th anniversary of slavery in British
	 North America.</p><p>For more details: <a href='https://events.la.psu.e
	du/event/1619_a_commemoration/'>https://events.la.psu.edu/event/1619_a_c
	ommemoration/</a></p></body></html>
LOCATION:Monumental Stairs, HUB-Robeson Center
END:VEVENT
END:VCALENDAR